BEGIN:VCALENDAR
VERSION:2.0
PRODID:-//Universalist Unitarian Community of Halifax - ECPv6.15.20//NONSGML v1.0//EN
CALSCALE:GREGORIAN
METHOD:PUBLISH
X-WR-CALNAME:Universalist Unitarian Community of Halifax
X-ORIGINAL-URL:https://uuch.ca
X-WR-CALDESC:Events for Universalist Unitarian Community of Halifax
REFRESH-INTERVAL;VALUE=DURATION:PT1H
X-Robots-Tag:noindex
X-PUBLISHED-TTL:PT1H
BEGIN:VTIMEZONE
TZID:America/Halifax
BEGIN:DAYLIGHT
TZOFFSETFROM:-0400
TZOFFSETTO:-0300
TZNAME:ADT
DTSTART:20240310T060000
END:DAYLIGHT
BEGIN:STANDARD
TZOFFSETFROM:-0300
TZOFFSETTO:-0400
TZNAME:AST
DTSTART:20241103T050000
END:STANDARD
BEGIN:DAYLIGHT
TZOFFSETFROM:-0400
TZOFFSETTO:-0300
TZNAME:ADT
DTSTART:20250309T060000
END:DAYLIGHT
BEGIN:STANDARD
TZOFFSETFROM:-0300
TZOFFSETTO:-0400
TZNAME:AST
DTSTART:20251102T050000
END:STANDARD
BEGIN:DAYLIGHT
TZOFFSETFROM:-0400
TZOFFSETTO:-0300
TZNAME:ADT
DTSTART:20260308T060000
END:DAYLIGHT
BEGIN:STANDARD
TZOFFSETFROM:-0300
TZOFFSETTO:-0400
TZNAME:AST
DTSTART:20261101T050000
END:STANDARD
END:VTIMEZONE
BEGIN:VEVENT
DTSTART;TZID=America/Halifax:20250216T103000
DTEND;TZID=America/Halifax:20250216T113000
DTSTAMP:20260420T083058
CREATED:20250131T200143Z
LAST-MODIFIED:20250131T200143Z
UID:793-1739701800-1739705400@uuch.ca
SUMMARY:Service: Cunard Navigates Anti Black Racism
DESCRIPTION:Nova Scotia-born Samuel Cunard helped run companies for transatlantic passenger travel by ship in the 1800s. We will tell stories of how Black passengers were treated on those ships in the century that finally ended slavery in the Empire and in the US. Stay afterwards for warm apple cider and the monthly Humanist discussion. Presented by the members of the Reconciliation and Dismantling Racism team.
URL:https://uuch.ca/event/service-cunard-navigates-anti-black-racism/
CATEGORIES:Sunday Services
END:VEVENT
BEGIN:VEVENT
DTSTART;TZID=America/Halifax:20250216T120000
DTEND;TZID=America/Halifax:20250216T133000
DTSTAMP:20260420T083058
CREATED:20250131T194830Z
LAST-MODIFIED:20250131T194830Z
UID:783-1739707200-1739712600@uuch.ca
SUMMARY:Humanist Discussion
DESCRIPTION:All are welcome. Topic TBD
URL:https://uuch.ca/event/humanist-discussion-4/
CATEGORIES:Community Events
END:VEVENT
END:VCALENDAR