BEGIN:VCALENDAR
VERSION:2.0
PRODID:-//Universalist Unitarian Community of Halifax - ECPv6.15.20//NONSGML v1.0//EN
CALSCALE:GREGORIAN
METHOD:PUBLISH
X-WR-CALNAME:Universalist Unitarian Community of Halifax
X-ORIGINAL-URL:https://uuch.ca
X-WR-CALDESC:Events for Universalist Unitarian Community of Halifax
REFRESH-INTERVAL;VALUE=DURATION:PT1H
X-Robots-Tag:noindex
X-PUBLISHED-TTL:PT1H
BEGIN:VTIMEZONE
TZID:America/Halifax
BEGIN:DAYLIGHT
TZOFFSETFROM:-0400
TZOFFSETTO:-0300
TZNAME:ADT
DTSTART:20240310T060000
END:DAYLIGHT
BEGIN:STANDARD
TZOFFSETFROM:-0300
TZOFFSETTO:-0400
TZNAME:AST
DTSTART:20241103T050000
END:STANDARD
BEGIN:DAYLIGHT
TZOFFSETFROM:-0400
TZOFFSETTO:-0300
TZNAME:ADT
DTSTART:20250309T060000
END:DAYLIGHT
BEGIN:STANDARD
TZOFFSETFROM:-0300
TZOFFSETTO:-0400
TZNAME:AST
DTSTART:20251102T050000
END:STANDARD
BEGIN:DAYLIGHT
TZOFFSETFROM:-0400
TZOFFSETTO:-0300
TZNAME:ADT
DTSTART:20260308T060000
END:DAYLIGHT
BEGIN:STANDARD
TZOFFSETFROM:-0300
TZOFFSETTO:-0400
TZNAME:AST
DTSTART:20261101T050000
END:STANDARD
END:VTIMEZONE
BEGIN:VEVENT
DTSTART;TZID=America/Halifax:20250914T103000
DTEND;TZID=America/Halifax:20250914T113000
DTSTAMP:20260424T051607
CREATED:20250829T145448Z
LAST-MODIFIED:20250829T145448Z
UID:1067-1757845800-1757849400@uuch.ca
SUMMARY:Service: Writing the Book of Life
DESCRIPTION:Everything that happens\, everywhere in the universe\, is written into the book of life. One day the book will come to an end\, perhaps with no one left to read it. So what shall we write?
URL:https://uuch.ca/event/service-writing-the-book-of-life/
CATEGORIES:Sunday Services
END:VEVENT
BEGIN:VEVENT
DTSTART;TZID=America/Halifax:20250914T120000
DTEND;TZID=America/Halifax:20250914T150000
DTSTAMP:20260424T051607
CREATED:20250814T122205Z
LAST-MODIFIED:20250819T144705Z
UID:1023-1757851200-1757862000@uuch.ca
SUMMARY:Congregational Retreat
DESCRIPTION:In our annual retreat at UUCH\, we have deep\, vibrant conversations about who we are as a community and how we might grow more fully into ourselves.
URL:https://uuch.ca/event/congregational-retreat-3/
CATEGORIES:Community Events
END:VEVENT
BEGIN:VEVENT
DTSTART;TZID=America/Halifax:20250914T173000
DTEND;TZID=America/Halifax:20250914T200000
DTSTAMP:20260424T051607
CREATED:20250808T155226Z
LAST-MODIFIED:20250808T155226Z
UID:1017-1757871000-1757880000@uuch.ca
SUMMARY:Rental
DESCRIPTION:
URL:https://uuch.ca/event/rental-3/
CATEGORIES:Rentals
END:VEVENT
END:VCALENDAR