BEGIN:VCALENDAR
VERSION:2.0
PRODID:-//Universalist Unitarian Community of Halifax - ECPv6.15.20//NONSGML v1.0//EN
CALSCALE:GREGORIAN
METHOD:PUBLISH
X-ORIGINAL-URL:https://uuch.ca
X-WR-CALDESC:Events for Universalist Unitarian Community of Halifax
REFRESH-INTERVAL;VALUE=DURATION:PT1H
X-Robots-Tag:noindex
X-PUBLISHED-TTL:PT1H
BEGIN:VTIMEZONE
TZID:America/Halifax
BEGIN:DAYLIGHT
TZOFFSETFROM:-0400
TZOFFSETTO:-0300
TZNAME:ADT
DTSTART:20240310T060000
END:DAYLIGHT
BEGIN:STANDARD
TZOFFSETFROM:-0300
TZOFFSETTO:-0400
TZNAME:AST
DTSTART:20241103T050000
END:STANDARD
BEGIN:DAYLIGHT
TZOFFSETFROM:-0400
TZOFFSETTO:-0300
TZNAME:ADT
DTSTART:20250309T060000
END:DAYLIGHT
BEGIN:STANDARD
TZOFFSETFROM:-0300
TZOFFSETTO:-0400
TZNAME:AST
DTSTART:20251102T050000
END:STANDARD
BEGIN:DAYLIGHT
TZOFFSETFROM:-0400
TZOFFSETTO:-0300
TZNAME:ADT
DTSTART:20260308T060000
END:DAYLIGHT
BEGIN:STANDARD
TZOFFSETFROM:-0300
TZOFFSETTO:-0400
TZNAME:AST
DTSTART:20261101T050000
END:STANDARD
END:VTIMEZONE
BEGIN:VEVENT
DTSTART;TZID=America/Halifax:20251116T103000
DTEND;TZID=America/Halifax:20251116T113000
DTSTAMP:20260420T083355
CREATED:20251029T143737Z
LAST-MODIFIED:20251029T143948Z
UID:1158-1763289000-1763292600@uuch.ca
SUMMARY:Service: Risk and Reward
DESCRIPTION:The safest place for a boat is in the harbour\, but that’s not what boats were made for. In a world of opportunity\, we consider the risks we want to take in life\, as individuals and as a community. This is the second service in our pledge drive series.
URL:https://uuch.ca/event/risk-and-reward/
CATEGORIES:Sunday Services
END:VEVENT
BEGIN:VEVENT
DTSTART;TZID=America/Halifax:20251116T120000
DTEND;TZID=America/Halifax:20251116T133000
DTSTAMP:20260420T083355
CREATED:20251024T173319Z
LAST-MODIFIED:20251024T173319Z
UID:1150-1763294400-1763299800@uuch.ca
SUMMARY:Building Your Own Theology
DESCRIPTION:This is an opportunity to develop your own personal credo – the fundamental beliefs\, values and convictions that inform and direct your life. Come to any or all sessions. The topic this Sunday is: The Risks We Take.
URL:https://uuch.ca/event/building-your-own-theology-9/
CATEGORIES:Community Events
END:VEVENT
BEGIN:VEVENT
DTSTART;TZID=America/Halifax:20251116T173000
DTEND;TZID=America/Halifax:20251116T200000
DTSTAMP:20260420T083355
CREATED:20250819T145250Z
LAST-MODIFIED:20250819T145250Z
UID:1041-1763314200-1763323200@uuch.ca
SUMMARY:Rental
DESCRIPTION:
URL:https://uuch.ca/event/rental-14/
CATEGORIES:Rentals
END:VEVENT
END:VCALENDAR