BEGIN:VCALENDAR
VERSION:2.0
PRODID:-//Universalist Unitarian Community of Halifax - ECPv6.15.20//NONSGML v1.0//EN
CALSCALE:GREGORIAN
METHOD:PUBLISH
X-ORIGINAL-URL:https://uuch.ca
X-WR-CALDESC:Events for Universalist Unitarian Community of Halifax
REFRESH-INTERVAL;VALUE=DURATION:PT1H
X-Robots-Tag:noindex
X-PUBLISHED-TTL:PT1H
BEGIN:VTIMEZONE
TZID:America/Halifax
BEGIN:DAYLIGHT
TZOFFSETFROM:-0400
TZOFFSETTO:-0300
TZNAME:ADT
DTSTART:20230312T060000
END:DAYLIGHT
BEGIN:STANDARD
TZOFFSETFROM:-0300
TZOFFSETTO:-0400
TZNAME:AST
DTSTART:20231105T050000
END:STANDARD
BEGIN:DAYLIGHT
TZOFFSETFROM:-0400
TZOFFSETTO:-0300
TZNAME:ADT
DTSTART:20240310T060000
END:DAYLIGHT
BEGIN:STANDARD
TZOFFSETFROM:-0300
TZOFFSETTO:-0400
TZNAME:AST
DTSTART:20241103T050000
END:STANDARD
BEGIN:DAYLIGHT
TZOFFSETFROM:-0400
TZOFFSETTO:-0300
TZNAME:ADT
DTSTART:20250309T060000
END:DAYLIGHT
BEGIN:STANDARD
TZOFFSETFROM:-0300
TZOFFSETTO:-0400
TZNAME:AST
DTSTART:20251102T050000
END:STANDARD
END:VTIMEZONE
BEGIN:VEVENT
DTSTART;TZID=America/Halifax:20240713T140000
DTEND;TZID=America/Halifax:20240713T160000
DTSTAMP:20260423T071551
CREATED:20240710T140016Z
LAST-MODIFIED:20240710T145141Z
UID:485-1720879200-1720886400@uuch.ca
SUMMARY:Celebration of Life: Norm Sabowitz
DESCRIPTION:Family and friends of Norm are invited to join in celebrating his life. Reception to follow \n“Eccentricity is the last refuge of the individual.”
URL:https://uuch.ca/event/celebration-of-life-norm-sabowitz/
CATEGORIES:Community Events
END:VEVENT
BEGIN:VEVENT
DTSTART;TZID=America/Halifax:20240720T110000
DTEND;TZID=America/Halifax:20240720T143000
DTSTAMP:20260423T071551
CREATED:20240710T135342Z
LAST-MODIFIED:20240710T145107Z
UID:483-1721473200-1721485800@uuch.ca
SUMMARY:Pride Parade
DESCRIPTION:Would you like to take part in the biggest expression of love and joy that Halifax will see this summer? \nWalk or ride in the Pride Parade! \nWe have a long history of supporting Halifax’s LBGTQ+ community dating back to 1973 when we offered our building as a free meeting place. In order to have as large a presence as we have had in previous years\, we need people who can walk the route\, and someone who can drive a second vehicle. As of this writing we have one small orange car. \nWe also need a group of creative people to decorate said vehicle(s) at 1:00 at UUCH on Friday\, July 19th. It’s so much fun! \nVolunteers please contact pam_griffin-hody@carleton.ca
URL:https://uuch.ca/event/pride-parade/
CATEGORIES:Community Events
END:VEVENT
BEGIN:VEVENT
DTSTART;TZID=America/Halifax:20240721T120000
DTEND;TZID=America/Halifax:20240721T170000
DTSTAMP:20260423T071551
CREATED:20240710T134047Z
LAST-MODIFIED:20240710T145019Z
UID:478-1721563200-1721581200@uuch.ca
SUMMARY:Spiritual Retreat
DESCRIPTION:We invite you to join us for a spiritual retreat at UUCH. This retreat will focus on meditation and mindfulness\, offering a sanctuary for inner reflection and growth. Some activities throughout the day will include:\n\n\nExploring different types of meditation\nJournaling for self-discovery\nGuided discussions\nMindful movement\n\nWhether you’re a seasoned practitioner or new to meditation\, this retreat is for you! \nCome reconnect with yourself and others in a supportive and nurturing environment. Reserve your spot today and embark on a journey of mindfulness and self-discovery. \nFor more information and registration\, please contact admin@uuch.ca
URL:https://uuch.ca/event/spiritual-retreat/
CATEGORIES:Community Events
END:VEVENT
BEGIN:VEVENT
DTSTART;TZID=America/Halifax:20240723T160000
DTEND;TZID=America/Halifax:20240723T180000
DTSTAMP:20260423T071551
CREATED:20240710T134722Z
LAST-MODIFIED:20240710T145159Z
UID:480-1721750400-1721757600@uuch.ca
SUMMARY:Pride Event: Elders Hangout
DESCRIPTION:A relaxed time to socialize in an accessible space for elders and youth. There will be food and drink\, a community history slideshow. Also a big celebratory cake and mugs and books for sale. \nThis event is supported by Halifax Pride’s Community Event Funding Program.
URL:https://uuch.ca/event/pride-event-elders-hangout/
CATEGORIES:Community Events,Rentals
END:VEVENT
END:VCALENDAR