BEGIN:VCALENDAR
VERSION:2.0
PRODID:-//Universalist Unitarian Community of Halifax - ECPv6.15.20//NONSGML v1.0//EN
CALSCALE:GREGORIAN
METHOD:PUBLISH
X-ORIGINAL-URL:https://uuch.ca
X-WR-CALDESC:Events for Universalist Unitarian Community of Halifax
REFRESH-INTERVAL;VALUE=DURATION:PT1H
X-Robots-Tag:noindex
X-PUBLISHED-TTL:PT1H
BEGIN:VTIMEZONE
TZID:America/Halifax
BEGIN:DAYLIGHT
TZOFFSETFROM:-0400
TZOFFSETTO:-0300
TZNAME:ADT
DTSTART:20230312T060000
END:DAYLIGHT
BEGIN:STANDARD
TZOFFSETFROM:-0300
TZOFFSETTO:-0400
TZNAME:AST
DTSTART:20231105T050000
END:STANDARD
BEGIN:DAYLIGHT
TZOFFSETFROM:-0400
TZOFFSETTO:-0300
TZNAME:ADT
DTSTART:20240310T060000
END:DAYLIGHT
BEGIN:STANDARD
TZOFFSETFROM:-0300
TZOFFSETTO:-0400
TZNAME:AST
DTSTART:20241103T050000
END:STANDARD
BEGIN:DAYLIGHT
TZOFFSETFROM:-0400
TZOFFSETTO:-0300
TZNAME:ADT
DTSTART:20250309T060000
END:DAYLIGHT
BEGIN:STANDARD
TZOFFSETFROM:-0300
TZOFFSETTO:-0400
TZNAME:AST
DTSTART:20251102T050000
END:STANDARD
END:VTIMEZONE
BEGIN:VEVENT
DTSTART;TZID=America/Halifax:20241002T123000
DTEND;TZID=America/Halifax:20241002T140000
DTSTAMP:20260423T071552
CREATED:20240927T192801Z
LAST-MODIFIED:20240927T192801Z
UID:615-1727872200-1727877600@uuch.ca
SUMMARY:Lunch Bunch
DESCRIPTION:Bring-Your-Own Bag Lunch get-togethers are planned for Wednesdays from 12:30 to 2:00.\nNo agenda\, just ‘how’s your spirit today’ check-ins and a conversation topic. We’ll start with weekly gatherings and see how that schedule works for the group.
URL:https://uuch.ca/event/lunch-bunch/
CATEGORIES:Community Events
END:VEVENT
BEGIN:VEVENT
DTSTART;TZID=America/Halifax:20241006T120000
DTEND;TZID=America/Halifax:20241006T130000
DTSTAMP:20260423T071552
CREATED:20240925T163046Z
LAST-MODIFIED:20240925T163055Z
UID:579-1728216000-1728219600@uuch.ca
SUMMARY:Climate Conversation
DESCRIPTION:More details to come…
URL:https://uuch.ca/event/climate-conversation/
CATEGORIES:Community Events
END:VEVENT
BEGIN:VEVENT
DTSTART;TZID=America/Halifax:20241009T123000
DTEND;TZID=America/Halifax:20241009T140000
DTSTAMP:20260423T071552
CREATED:20240927T192841Z
LAST-MODIFIED:20240927T192841Z
UID:617-1728477000-1728482400@uuch.ca
SUMMARY:Lunch Bunch
DESCRIPTION:Bring-Your-Own Bag Lunch get-togethers are planned for Wednesdays from 12:30 to 2:00.\nNo agenda\, just ‘how’s your spirit today’ check-ins and a conversation topic. We’ll start with weekly gatherings and see how that schedule works for the group.
URL:https://uuch.ca/event/lunch-bunch-2/
CATEGORIES:Community Events
END:VEVENT
BEGIN:VEVENT
DTSTART;TZID=America/Halifax:20241010T190000
DTEND;TZID=America/Halifax:20241010T201500
DTSTAMP:20260423T071552
CREATED:20240925T164123Z
LAST-MODIFIED:20240925T164123Z
UID:590-1728586800-1728591300@uuch.ca
SUMMARY:Poetic Expression
DESCRIPTION:We’ll read poems aloud\, to play with self-expression and personality (we could also read song lyrics\, lines from books or movies\, or anything else that opens you up). \n  \nWe’re experimenting with Thursday evening events. October’s theme is poetry. Invite friends and neighbours who might be interested\, spread the word in your networks\, and let’s see where the energy goes.
URL:https://uuch.ca/event/poetic-expression/
CATEGORIES:Community Events
END:VEVENT
BEGIN:VEVENT
DTSTART;TZID=America/Halifax:20241014T150000
DTEND;TZID=America/Halifax:20241014T180000
DTSTAMP:20260423T071552
CREATED:20240918T191425Z
LAST-MODIFIED:20240927T194507Z
UID:577-1728918000-1728928800@uuch.ca
SUMMARY:Thanksgiving Dinner Potluck
DESCRIPTION:This friendly\, lively potluck dinner is open to anyone who wants to celebrate the feast of Thanksgiving with a gathering of friends and good food. It’s an annual tradition!\nThere are sign-up sheets at UUCH which will still be available this Sunday but you can also e-mail Pam at pam_griffin-hody @ carleton.ca. We need to know what you are bringing and how many guests.\nDon’t cook? Butter\, rolls\, juice\, cranberry sauce\, pickles\, pies\, etc. are needed.\nIdeas? Various people say that we always run out of mashed potatoes. Pam says she didn’t get enough mashed turnip last year. \nPlease know that all are welcome\, with or without a food contribution. Just let Pam know numbers so we have enough food.\nWe hope to see you there!
URL:https://uuch.ca/event/thanksgiving-dinner-potluck/
CATEGORIES:Community Events
END:VEVENT
BEGIN:VEVENT
DTSTART;TZID=America/Halifax:20241016T123000
DTEND;TZID=America/Halifax:20241016T140000
DTSTAMP:20260423T071552
CREATED:20240927T192912Z
LAST-MODIFIED:20240927T192912Z
UID:619-1729081800-1729087200@uuch.ca
SUMMARY:Lunch Bunch
DESCRIPTION:Bring-Your-Own Bag Lunch get-togethers are planned for Wednesdays from 12:30 to 2:00.\nNo agenda\, just ‘how’s your spirit today’ check-ins and a conversation topic. We’ll start with weekly gatherings and see how that schedule works for the group.
URL:https://uuch.ca/event/lunch-bunch-3/
CATEGORIES:Community Events
END:VEVENT
BEGIN:VEVENT
DTSTART;TZID=America/Halifax:20241017T190000
DTEND;TZID=America/Halifax:20241017T201500
DTSTAMP:20260423T071552
CREATED:20240925T164219Z
LAST-MODIFIED:20241011T191722Z
UID:592-1729191600-1729196100@uuch.ca
SUMMARY:Poetry event: Your Favourite Poem
DESCRIPTION:Bring your favourite poem (or song lyric\, or monologue). What words ground you\, open you\, enrich you\, reflect you\, hint at what lies beyond you?
URL:https://uuch.ca/event/poetry-event-tbd/
CATEGORIES:Community Events
END:VEVENT
BEGIN:VEVENT
DTSTART;TZID=America/Halifax:20241020T114500
DTEND;TZID=America/Halifax:20241020T130000
DTSTAMP:20260423T071552
CREATED:20240925T163158Z
LAST-MODIFIED:20240927T194245Z
UID:581-1729424700-1729429200@uuch.ca
SUMMARY:Humanist Discussion
DESCRIPTION:The Humanist Group will resume meeting on the third Sunday of the month as usual. We will meet in the worship room on October 20\, 15 minutes after the end of the morning service. Initially\, we will settle on a topic (topics?) for the coming church year. Study a book? Consider humanist morality in an AI world? Study one topic for the year or a different subject every month? Multiple possibilities. A lively discussion may lead to a workable consensus. \nAll are welcome to join in and have their say. The discussions never end\, but we wind these down by 1 pm.
URL:https://uuch.ca/event/humanist-discussion/
CATEGORIES:Community Events
END:VEVENT
BEGIN:VEVENT
DTSTART;TZID=America/Halifax:20241023T123000
DTEND;TZID=America/Halifax:20241023T140000
DTSTAMP:20260423T071552
CREATED:20240927T192938Z
LAST-MODIFIED:20240927T192938Z
UID:621-1729686600-1729692000@uuch.ca
SUMMARY:Lunch Bunch
DESCRIPTION:Bring-Your-Own Bag Lunch get-togethers are planned for Wednesdays from 12:30 to 2:00.\nNo agenda\, just ‘how’s your spirit today’ check-ins and a conversation topic. We’ll start with weekly gatherings and see how that schedule works for the group.
URL:https://uuch.ca/event/lunch-bunch-4/
CATEGORIES:Community Events
END:VEVENT
BEGIN:VEVENT
DTSTART;TZID=America/Halifax:20241024T190000
DTEND;TZID=America/Halifax:20241024T201500
DTSTAMP:20260423T071552
CREATED:20240925T164335Z
LAST-MODIFIED:20240925T164335Z
UID:594-1729796400-1729800900@uuch.ca
SUMMARY:Poetry Boot Camp
DESCRIPTION:We’ll do drills to tap into our inner poet \n  \nWe’re experimenting with Thursday evening events. October’s theme is poetry. Invite friends and neighbours who might be interested\, spread the word in your networks\, and let’s see where the energy goes.
URL:https://uuch.ca/event/poetry-boot-camp/
CATEGORIES:Community Events
END:VEVENT
BEGIN:VEVENT
DTSTART;TZID=America/Halifax:20241027T120000
DTEND;TZID=America/Halifax:20241027T133000
DTSTAMP:20260423T071552
CREATED:20240925T163826Z
LAST-MODIFIED:20240925T163826Z
UID:585-1730030400-1730035800@uuch.ca
SUMMARY:Chanting
DESCRIPTION:We’ll sing chants from our hymnal and beyond
URL:https://uuch.ca/event/chanting/
CATEGORIES:Community Events
END:VEVENT
BEGIN:VEVENT
DTSTART;TZID=America/Halifax:20241030T121500
DTEND;TZID=America/Halifax:20241030T133000
DTSTAMP:20260423T071552
CREATED:20240927T193008Z
LAST-MODIFIED:20241028T224233Z
UID:623-1730290500-1730295000@uuch.ca
SUMMARY:Lunch Bunch
DESCRIPTION:Bring-Your-Own Bag Lunch get-togethers are planned for Wednesdays from 12:15 to 1:30.\nNo agenda\, just ‘how’s your spirit today’ check-ins and a conversation topic. We’ll start with weekly gatherings and see how that schedule works for the group.
URL:https://uuch.ca/event/lunch-bunch-5/
CATEGORIES:Community Events
END:VEVENT
BEGIN:VEVENT
DTSTART;TZID=America/Halifax:20241031T190000
DTEND;TZID=America/Halifax:20241031T201500
DTSTAMP:20260423T071552
CREATED:20240925T164445Z
LAST-MODIFIED:20241024T181339Z
UID:596-1730401200-1730405700@uuch.ca
SUMMARY:Cemetery Poetry Night
DESCRIPTION:On Halloween\, we’ll read soulful poems at a local cemetery. Contact Ben for the location\, minister@uuch.ca. You could also come by the church beforehand for hot chocolate\, and we’ll head over together to get to the cemetery for 7:00. Update: Cemeteries close on Halloween; we’ll meet at UUCH\, out back. \n  \nWe’re experimenting with Thursday evening events. October’s theme is poetry. Invite friends and neighbours who might be interested\, spread the word in your networks\, and let’s see where the energy goes.
URL:https://uuch.ca/event/cemetery-poetry-night/
CATEGORIES:Community Events
END:VEVENT
END:VCALENDAR