BEGIN:VCALENDAR
VERSION:2.0
PRODID:-//Universalist Unitarian Community of Halifax - ECPv6.15.20//NONSGML v1.0//EN
CALSCALE:GREGORIAN
METHOD:PUBLISH
X-ORIGINAL-URL:https://uuch.ca
X-WR-CALDESC:Events for Universalist Unitarian Community of Halifax
REFRESH-INTERVAL;VALUE=DURATION:PT1H
X-Robots-Tag:noindex
X-PUBLISHED-TTL:PT1H
BEGIN:VTIMEZONE
TZID:America/Halifax
BEGIN:DAYLIGHT
TZOFFSETFROM:-0400
TZOFFSETTO:-0300
TZNAME:ADT
DTSTART:20240310T060000
END:DAYLIGHT
BEGIN:STANDARD
TZOFFSETFROM:-0300
TZOFFSETTO:-0400
TZNAME:AST
DTSTART:20241103T050000
END:STANDARD
BEGIN:DAYLIGHT
TZOFFSETFROM:-0400
TZOFFSETTO:-0300
TZNAME:ADT
DTSTART:20250309T060000
END:DAYLIGHT
BEGIN:STANDARD
TZOFFSETFROM:-0300
TZOFFSETTO:-0400
TZNAME:AST
DTSTART:20251102T050000
END:STANDARD
BEGIN:DAYLIGHT
TZOFFSETFROM:-0400
TZOFFSETTO:-0300
TZNAME:ADT
DTSTART:20260308T060000
END:DAYLIGHT
BEGIN:STANDARD
TZOFFSETFROM:-0300
TZOFFSETTO:-0400
TZNAME:AST
DTSTART:20261101T050000
END:STANDARD
END:VTIMEZONE
BEGIN:VEVENT
DTSTART;TZID=America/Halifax:20250504T120000
DTEND;TZID=America/Halifax:20250504T133000
DTSTAMP:20260424T181424
CREATED:20250305T171320Z
LAST-MODIFIED:20250430T152341Z
UID:837-1746360000-1746365400@uuch.ca
SUMMARY:Building Your Own Theology
DESCRIPTION:This is an opportunity to develop your own personal credo – the fundamental beliefs\, values and convictions that inform and direct your life. Come to any or all of the remaining sessions\, on the following Sundays at noon: \nMay 4th Human nature \nMay 11th Ethics \nJun 1st The meaning of life
URL:https://uuch.ca/event/building-your-own-theology-3/
CATEGORIES:Community Events
END:VEVENT
BEGIN:VEVENT
DTSTART;TZID=America/Halifax:20250511T120000
DTEND;TZID=America/Halifax:20250511T133000
DTSTAMP:20260424T181424
CREATED:20250305T171357Z
LAST-MODIFIED:20250430T152419Z
UID:839-1746964800-1746970200@uuch.ca
SUMMARY:Building Your Own Theology
DESCRIPTION:This is an opportunity to develop your own personal credo – the fundamental beliefs\, values and convictions that inform and direct your life. Come to any or all of the remaining sessions\, on the following Sundays at noon: \nMay 11th Ethics \nJun 1st The meaning of life
URL:https://uuch.ca/event/building-your-own-theology-4/
CATEGORIES:Community Events
END:VEVENT
BEGIN:VEVENT
DTSTART;TZID=America/Halifax:20250525T113000
DTEND;TZID=America/Halifax:20250525T133000
DTSTAMP:20260424T181424
CREATED:20250423T154625Z
LAST-MODIFIED:20250423T154625Z
UID:877-1748172600-1748179800@uuch.ca
SUMMARY:Soup Lunch & AGM
DESCRIPTION:After the Sunday service we will have a Soup lunch followed by our Annual General Meeting.
URL:https://uuch.ca/event/soup-lunch-agm/
CATEGORIES:Community Events
END:VEVENT
BEGIN:VEVENT
DTSTART;TZID=America/Halifax:20250530T180000
DTEND;TZID=America/Halifax:20250530T210000
DTSTAMP:20260424T181424
CREATED:20250430T152118Z
LAST-MODIFIED:20250530T164042Z
UID:897-1748628000-1748638800@uuch.ca
SUMMARY:Youth Event at Activate
DESCRIPTION:Our monthly youth event is at Activate\, for those up to age 18. Email Ben to reserve spots\, minister@uucha.ca. \nArrive at 6pm to begin our time slot at 6:15.
URL:https://uuch.ca/event/youth-event/
CATEGORIES:Community Events
END:VEVENT
END:VCALENDAR