BEGIN:VCALENDAR
VERSION:2.0
PRODID:-//Universalist Unitarian Community of Halifax - ECPv6.15.20//NONSGML v1.0//EN
CALSCALE:GREGORIAN
METHOD:PUBLISH
X-WR-CALNAME:Universalist Unitarian Community of Halifax
X-ORIGINAL-URL:https://uuch.ca
X-WR-CALDESC:Events for Universalist Unitarian Community of Halifax
REFRESH-INTERVAL;VALUE=DURATION:PT1H
X-Robots-Tag:noindex
X-PUBLISHED-TTL:PT1H
BEGIN:VTIMEZONE
TZID:America/Halifax
BEGIN:DAYLIGHT
TZOFFSETFROM:-0400
TZOFFSETTO:-0300
TZNAME:ADT
DTSTART:20250309T060000
END:DAYLIGHT
BEGIN:STANDARD
TZOFFSETFROM:-0300
TZOFFSETTO:-0400
TZNAME:AST
DTSTART:20251102T050000
END:STANDARD
BEGIN:DAYLIGHT
TZOFFSETFROM:-0400
TZOFFSETTO:-0300
TZNAME:ADT
DTSTART:20260308T060000
END:DAYLIGHT
BEGIN:STANDARD
TZOFFSETFROM:-0300
TZOFFSETTO:-0400
TZNAME:AST
DTSTART:20261101T050000
END:STANDARD
BEGIN:DAYLIGHT
TZOFFSETFROM:-0400
TZOFFSETTO:-0300
TZNAME:ADT
DTSTART:20270314T060000
END:DAYLIGHT
BEGIN:STANDARD
TZOFFSETFROM:-0300
TZOFFSETTO:-0400
TZNAME:AST
DTSTART:20271107T050000
END:STANDARD
END:VTIMEZONE
BEGIN:VEVENT
DTSTART;TZID=America/Halifax:20260103T100000
DTEND;TZID=America/Halifax:20260103T113000
DTSTAMP:20260423T113057
CREATED:20251203T142804Z
LAST-MODIFIED:20251203T142840Z
UID:1212-1767434400-1767439800@uuch.ca
SUMMARY:Saturday Brunch
DESCRIPTION:The UUCH brunch programme runs from September through June. We offer a free brunch every Saturday from 10-11:30 am at the UUCH at 5500 Inglis Street. Our usual clients run from school age to 80+. Everyone is welcome and the area is accessible. There is a gated playground and deck for nice days. Volunteers and donations welcome.
URL:https://uuch.ca/event/saturday-brunch-20/
CATEGORIES:Community Events
END:VEVENT
BEGIN:VEVENT
DTSTART;TZID=America/Halifax:20260104T120000
DTEND;TZID=America/Halifax:20260104T133000
DTSTAMP:20260423T113057
CREATED:20260102T154414Z
LAST-MODIFIED:20260102T154414Z
UID:1257-1767528000-1767533400@uuch.ca
SUMMARY:What Makes You Belong?
DESCRIPTION:In the first of a 3-part discussion series on belonging\, we consider what experiences\, behaviours and group norms make you feel like you can be yourself\, not only welcomed but embraced. What makes you show up as you?
URL:https://uuch.ca/event/what-makes-you-belong/
CATEGORIES:Community Events
END:VEVENT
BEGIN:VEVENT
DTSTART;TZID=America/Halifax:20260106T190000
DTEND;TZID=America/Halifax:20260106T203000
DTSTAMP:20260423T113057
CREATED:20260102T155553Z
LAST-MODIFIED:20260105T134509Z
UID:1273-1767726000-1767731400@uuch.ca
SUMMARY:UU Principles Reflection Circle (Online)
DESCRIPTION:This series runs January to April\, 1st and 2nd Tuesdays\, on Zoom. It is the same Zoom link as our Sunday services. \nIn each session\, we explore one of our 8 principles: What the principle means to you; how it has shown up in your life; how you might live it more fully; how it enhances or challenges your other deeply held beliefs.\nThe series is a reflection circle\, in which we help each other to tune into our own inner teachers. It is not a space for advising\, correcting\, steering or testing each other. Come as a fellow traveler as we weave our learning journeys together. You are encouraged to attend most or all sessions. Drop-ins are also welcome. Email Ben to receive reflection questions in advance of each session\, minister@uuch.ca
URL:https://uuch.ca/event/uu-principles-reflection-circle-online/
CATEGORIES:Community Events
END:VEVENT
BEGIN:VEVENT
DTSTART;TZID=America/Halifax:20260110T100000
DTEND;TZID=America/Halifax:20260110T113000
DTSTAMP:20260423T113057
CREATED:20260102T155955Z
LAST-MODIFIED:20260102T155955Z
UID:1279-1768039200-1768044600@uuch.ca
SUMMARY:Saturday Brunch
DESCRIPTION:The UUCH brunch programme runs from September through June. We offer a free brunch every Saturday from 10-11:30 am at the UUCH at 5500 Inglis Street. Our usual clients run from school age to 80+. Everyone is welcome and the area is accessible. There is a gated playground and deck for nice days. Volunteers and donations welcome.
URL:https://uuch.ca/event/saturday-brunch-21/
CATEGORIES:Community Events
END:VEVENT
BEGIN:VEVENT
DTSTART;TZID=America/Halifax:20260111T120000
DTEND;TZID=America/Halifax:20260111T133000
DTSTAMP:20260423T113057
CREATED:20260102T154502Z
LAST-MODIFIED:20260102T154502Z
UID:1259-1768132800-1768138200@uuch.ca
SUMMARY:What Helps Others Belong?
DESCRIPTION:In the second of a 3-part discussion series on belonging\, we consider what helps you to be more aware of other people’s quirks\, needs and longings\, so that they might more fully belong.
URL:https://uuch.ca/event/what-helps-others-belong/
CATEGORIES:Community Events
END:VEVENT
BEGIN:VEVENT
DTSTART;TZID=America/Halifax:20260112T183000
DTEND;TZID=America/Halifax:20260112T200000
DTSTAMP:20260423T113057
CREATED:20260102T160239Z
LAST-MODIFIED:20260102T160239Z
UID:1289-1768242600-1768248000@uuch.ca
SUMMARY:Rental
DESCRIPTION:
URL:https://uuch.ca/event/rental-22/
CATEGORIES:Community Events
END:VEVENT
BEGIN:VEVENT
DTSTART;TZID=America/Halifax:20260113T190000
DTEND;TZID=America/Halifax:20260113T203000
DTSTAMP:20260423T113057
CREATED:20260102T155635Z
LAST-MODIFIED:20260105T134537Z
UID:1275-1768330800-1768336200@uuch.ca
SUMMARY:UU Principles Reflection Circle (Online)
DESCRIPTION:This series runs January to April\, 1st and 2nd Tuesdays\, on Zoom. It is the same Zoom link as our Sunday services. \nIn each session\, we explore one of our 8 principles: What the principle means to you; how it has shown up in your life; how you might live it more fully; how it enhances or challenges your other deeply held beliefs.\nThe series is a reflection circle\, in which we help each other to tune into our own inner teachers. It is not a space for advising\, correcting\, steering or testing each other. Come as a fellow traveler as we weave our learning journeys together. You are encouraged to attend most or all sessions. Drop-ins are also welcome. Email Ben to receive reflection questions in advance of each session\, minister@uuch.ca
URL:https://uuch.ca/event/uu-principles-reflection-circle-online-2/
CATEGORIES:Community Events
END:VEVENT
BEGIN:VEVENT
DTSTART;TZID=America/Halifax:20260116T190000
DTEND;TZID=America/Halifax:20260116T213000
DTSTAMP:20260423T113057
CREATED:20260102T154559Z
LAST-MODIFIED:20260102T154559Z
UID:1261-1768590000-1768599000@uuch.ca
SUMMARY:Youth Group Sledding & Hot Chocolate
DESCRIPTION:The youth group meets monthly on the 3rd Friday. Email Ben for the location\, minister@uuch.ca. We provide a space where youth can build meaningful relationships and grow into themselves in a community that nurtures good values.
URL:https://uuch.ca/event/youth-group-sledding-hot-chocolate/
CATEGORIES:Community Events
END:VEVENT
BEGIN:VEVENT
DTSTART;TZID=America/Halifax:20260117T100000
DTEND;TZID=America/Halifax:20260117T113000
DTSTAMP:20260423T113057
CREATED:20260102T160025Z
LAST-MODIFIED:20260102T160025Z
UID:1281-1768644000-1768649400@uuch.ca
SUMMARY:Saturday Brunch
DESCRIPTION:The UUCH brunch programme runs from September through June. We offer a free brunch every Saturday from 10-11:30 am at the UUCH at 5500 Inglis Street. Our usual clients run from school age to 80+. Everyone is welcome and the area is accessible. There is a gated playground and deck for nice days. Volunteers and donations welcome.
URL:https://uuch.ca/event/saturday-brunch-22/
CATEGORIES:Community Events
END:VEVENT
BEGIN:VEVENT
DTSTART;TZID=America/Halifax:20260118T120000
DTEND;TZID=America/Halifax:20260118T133000
DTSTAMP:20260423T113057
CREATED:20260102T154647Z
LAST-MODIFIED:20260102T154647Z
UID:1263-1768737600-1768743000@uuch.ca
SUMMARY:How Much Can We Belong?
DESCRIPTION:In the finale of a 3-part discussion series on belonging\, we consider how high to raise our aspirations about how fully we can each belong and how much we can help each other belong.
URL:https://uuch.ca/event/how-much-can-we-belong/
CATEGORIES:Community Events
END:VEVENT
BEGIN:VEVENT
DTSTART;TZID=America/Halifax:20260120T180000
DTEND;TZID=America/Halifax:20260120T190000
DTSTAMP:20260423T113057
CREATED:20260120T172700Z
LAST-MODIFIED:20260120T172912Z
UID:1316-1768932000-1768935600@uuch.ca
SUMMARY:Grief Circle (online)
DESCRIPTION:Join us for an informal grief circle on zoom. Here is the link (if clicking doesn’t work\, first click the event title).
URL:https://uuch.ca/event/grief-circle-online/
CATEGORIES:Community Events
END:VEVENT
BEGIN:VEVENT
DTSTART;TZID=America/Halifax:20260122T183000
DTEND;TZID=America/Halifax:20260122T203000
DTSTAMP:20260423T113057
CREATED:20260102T154728Z
LAST-MODIFIED:20260102T154728Z
UID:1265-1769106600-1769113800@uuch.ca
SUMMARY:Writing as Spiritual Practice
DESCRIPTION:This will be a practice of open-heartedness\, curiosity\, reflection\, and expression through writing. We will focus on spiritual engagement\, not writing critique or technical skills. Facilitated by Joe Britto.
URL:https://uuch.ca/event/writing-as-spiritual-practice/
CATEGORIES:Community Events
END:VEVENT
BEGIN:VEVENT
DTSTART;TZID=America/Halifax:20260123T190000
DTEND;TZID=America/Halifax:20260123T210000
DTSTAMP:20260423T113057
CREATED:20260102T154817Z
LAST-MODIFIED:20260104T014642Z
UID:1267-1769194800-1769202000@uuch.ca
SUMMARY:Ecstatic Dance
DESCRIPTION:The dance will be based on our experiences with The Move Collective in Toronto\, who write “We hold the strong intention to honour movement and dance as an essential and powerful expression of self and connection to others.” Dance in bare feet with clothing that allows for ease of movement. The event is substance-free and scent-free. Facilitated by Ben Robins\, Penny Kuhn & Tanya Kowalenko.
URL:https://uuch.ca/event/ecstatic-dance/
CATEGORIES:Community Events
END:VEVENT
BEGIN:VEVENT
DTSTART;TZID=America/Halifax:20260124T100000
DTEND;TZID=America/Halifax:20260124T113000
DTSTAMP:20260423T113057
CREATED:20260102T160052Z
LAST-MODIFIED:20260102T160106Z
UID:1283-1769248800-1769254200@uuch.ca
SUMMARY:Saturday Brunch
DESCRIPTION:The UUCH brunch programme runs from September through June. We offer a free brunch every Saturday from 10-11:30 am at the UUCH at 5500 Inglis Street. Our usual clients run from school age to 80+. Everyone is welcome and the area is accessible. There is a gated playground and deck for nice days. Volunteers and donations welcome.
URL:https://uuch.ca/event/saturday-brunch-23/
CATEGORIES:Community Events
END:VEVENT
BEGIN:VEVENT
DTSTART;TZID=America/Halifax:20260124T140000
DTEND;TZID=America/Halifax:20260124T150000
DTSTAMP:20260423T113057
CREATED:20260116T155232Z
LAST-MODIFIED:20260123T173633Z
UID:1314-1769263200-1769266800@uuch.ca
SUMMARY:Celebration of Life for Glenda Butt
DESCRIPTION:Glenda’s celebration of life will be held at Hope United Church located at 3055 Connaught Ave. Ben will be officiating the service. Glenda’s obituary can be read here: https://www.dignitymemorial.com/en-ca/obituaries/halifax-ns/glenda-butt-12692111. You can watch the service on Zoom at our usual link for Sunday services: https://us02web.zoom.us/j/666004431?pwd=RjQvVEtjUjM1MEdnMDgxU0VSRzVLQT09
URL:https://uuch.ca/event/celebration-of-life-for-glenda-butt/
CATEGORIES:Community Events
END:VEVENT
BEGIN:VEVENT
DTSTART;TZID=America/Halifax:20260125T120000
DTEND;TZID=America/Halifax:20260125T130000
DTSTAMP:20260423T113057
CREATED:20260102T154853Z
LAST-MODIFIED:20260102T154853Z
UID:1269-1769342400-1769346000@uuch.ca
SUMMARY:Humanist Group
DESCRIPTION:Join our humanists for thought-provoking discussions chosen by the group. This time it’s on freedoms lost. In generations past and even today\, religious groups have dictated what their members may or may not\nwear. Now there is also a Quebec secularist law. What is your background? What do you think?
URL:https://uuch.ca/event/humanist-group-5/
CATEGORIES:Community Events
END:VEVENT
BEGIN:VEVENT
DTSTART;TZID=America/Halifax:20260125T160000
DTEND;TZID=America/Halifax:20260125T170000
DTSTAMP:20260423T113057
CREATED:20260102T154931Z
LAST-MODIFIED:20260102T154931Z
UID:1271-1769356800-1769360400@uuch.ca
SUMMARY:Spirit Circle
DESCRIPTION:A more informal service inviting openness\, peace\, reflection and connection to something larger.
URL:https://uuch.ca/event/spirit-circle-9/
CATEGORIES:Community Events
END:VEVENT
BEGIN:VEVENT
DTSTART;TZID=America/Halifax:20260131T100000
DTEND;TZID=America/Halifax:20260131T113000
DTSTAMP:20260423T113057
CREATED:20260102T160133Z
LAST-MODIFIED:20260102T160133Z
UID:1285-1769853600-1769859000@uuch.ca
SUMMARY:Saturday Brunch
DESCRIPTION:The UUCH brunch programme runs from September through June. We offer a free brunch every Saturday from 10-11:30 am at the UUCH at 5500 Inglis Street. Our usual clients run from school age to 80+. Everyone is welcome and the area is accessible. There is a gated playground and deck for nice days. Volunteers and donations welcome.
URL:https://uuch.ca/event/saturday-brunch-24/
CATEGORIES:Community Events
END:VEVENT
END:VCALENDAR