BEGIN:VCALENDAR
VERSION:2.0
PRODID:-//Universalist Unitarian Community of Halifax - ECPv6.15.20//NONSGML v1.0//EN
CALSCALE:GREGORIAN
METHOD:PUBLISH
X-ORIGINAL-URL:https://uuch.ca
X-WR-CALDESC:Events for Universalist Unitarian Community of Halifax
REFRESH-INTERVAL;VALUE=DURATION:PT1H
X-Robots-Tag:noindex
X-PUBLISHED-TTL:PT1H
BEGIN:VTIMEZONE
TZID:America/Halifax
BEGIN:DAYLIGHT
TZOFFSETFROM:-0400
TZOFFSETTO:-0300
TZNAME:ADT
DTSTART:20250309T060000
END:DAYLIGHT
BEGIN:STANDARD
TZOFFSETFROM:-0300
TZOFFSETTO:-0400
TZNAME:AST
DTSTART:20251102T050000
END:STANDARD
BEGIN:DAYLIGHT
TZOFFSETFROM:-0400
TZOFFSETTO:-0300
TZNAME:ADT
DTSTART:20260308T060000
END:DAYLIGHT
BEGIN:STANDARD
TZOFFSETFROM:-0300
TZOFFSETTO:-0400
TZNAME:AST
DTSTART:20261101T050000
END:STANDARD
BEGIN:DAYLIGHT
TZOFFSETFROM:-0400
TZOFFSETTO:-0300
TZNAME:ADT
DTSTART:20270314T060000
END:DAYLIGHT
BEGIN:STANDARD
TZOFFSETFROM:-0300
TZOFFSETTO:-0400
TZNAME:AST
DTSTART:20271107T050000
END:STANDARD
END:VTIMEZONE
BEGIN:VEVENT
DTSTART;TZID=America/Halifax:20260303T190000
DTEND;TZID=America/Halifax:20260303T203000
DTSTAMP:20260423T084317
CREATED:20260226T141251Z
LAST-MODIFIED:20260226T141251Z
UID:1360-1772564400-1772569800@uuch.ca
SUMMARY:UU Principles Reflection Circle (online)
DESCRIPTION:January through April\, 1st and 2nd Tuesdays\, on Zoom. It is the same Zoom link as our Sunday services. https://us02web.zoom.us/j/666004431?pwd=RjQvVEtjUjM1MEdnMDgxU0VSRzVLQT09\nIn each session\, we will explore one of our 8 principles: What the principle means to you; how it has shown up in your life; how you might live it more fully; how it enhances or challenges your other deeply held beliefs.\nIn this reflection circle\, we help each other to tune into our own inner teachers. This is not a space for advising\, correcting\, steering or testing each other. Come as a fellow traveller as we weave our learning journeys together.\nYou are encouraged to attend most or all sessions. Drop-ins are also welcome.\nEmail Ben to receive reflection questions in advance of each session\, minister@uuch.ca.
URL:https://uuch.ca/event/uu-principles-reflection-circle-online-5/
CATEGORIES:Community Events
END:VEVENT
BEGIN:VEVENT
DTSTART;TZID=America/Halifax:20260310T190000
DTEND;TZID=America/Halifax:20260310T203000
DTSTAMP:20260423T084317
CREATED:20260226T141330Z
LAST-MODIFIED:20260226T141330Z
UID:1362-1773169200-1773174600@uuch.ca
SUMMARY:UU Principles Reflection Circle (online)
DESCRIPTION:January through April\, 1st and 2nd Tuesdays\, on Zoom. It is the same Zoom link as our Sunday services. https://us02web.zoom.us/j/666004431?pwd=RjQvVEtjUjM1MEdnMDgxU0VSRzVLQT09\nIn each session\, we will explore one of our 8 principles: What the principle means to you; how it has shown up in your life; how you might live it more fully; how it enhances or challenges your other deeply held beliefs.\nIn this reflection circle\, we help each other to tune into our own inner teachers. This is not a space for advising\, correcting\, steering or testing each other. Come as a fellow traveller as we weave our learning journeys together.\nYou are encouraged to attend most or all sessions. Drop-ins are also welcome.\nEmail Ben to receive reflection questions in advance of each session\, minister@uuch.ca.
URL:https://uuch.ca/event/uu-principles-reflection-circle-online-6/
CATEGORIES:Community Events
END:VEVENT
BEGIN:VEVENT
DTSTART;TZID=America/Halifax:20260315T120000
DTEND;TZID=America/Halifax:20260315T130000
DTSTAMP:20260423T084317
CREATED:20260226T141556Z
LAST-MODIFIED:20260226T141556Z
UID:1368-1773576000-1773579600@uuch.ca
SUMMARY:Discussion: Changing Minds
DESCRIPTION:What makes you change your mind? How do you approach trying to persuade someone else to change their mind? How do your principles influence how you engage in the art of persuasion?
URL:https://uuch.ca/event/discussion-changing-minds/
CATEGORIES:Community Events
END:VEVENT
BEGIN:VEVENT
DTSTART;TZID=America/Halifax:20260322T120000
DTEND;TZID=America/Halifax:20260322T130000
DTSTAMP:20260423T084317
CREATED:20260226T141626Z
LAST-MODIFIED:20260226T141626Z
UID:1370-1774180800-1774184400@uuch.ca
SUMMARY:Discussion: Protest and Building Bridges
DESCRIPTION:How can we best engage in political protest\, when the goal is both changing the world and overcoming divisions?
URL:https://uuch.ca/event/discussion-protest-and-building-bridges/
CATEGORIES:Community Events
END:VEVENT
BEGIN:VEVENT
DTSTART;TZID=America/Halifax:20260327T190000
DTEND;TZID=America/Halifax:20260327T210000
DTSTAMP:20260423T084317
CREATED:20260226T141712Z
LAST-MODIFIED:20260325T145242Z
UID:1372-1774638000-1774645200@uuch.ca
SUMMARY:Youth Group Crafting and Board Games
DESCRIPTION:Note the date is not our usual 3rd Friday of the month\, due to March Break. Email for the location: minister@uuch.ca \nWe will have Easter crafts and card-making. You can also bring your favourite board games. \nWe provide a space where youth can build meaningful relationships and grow into themselves in a community that nurtures good values.
URL:https://uuch.ca/event/youth-group-crafting-and-board-games/
CATEGORIES:Community Events
END:VEVENT
BEGIN:VEVENT
DTSTART;TZID=America/Halifax:20260329T120000
DTEND;TZID=America/Halifax:20260329T133000
DTSTAMP:20260423T084317
CREATED:20260306T144338Z
LAST-MODIFIED:20260306T144338Z
UID:1376-1774785600-1774791000@uuch.ca
SUMMARY:Pride Parade Meeting
DESCRIPTION:Since the 1990’s UUCH has participated in the Halifax annual Pride Parade. Now in 2026 more than ever\, we need to stand up for the principles of Diversity\, Equity and Inclusion that are central to our faith.\nIn the weeks ahead\, your Pride Planning Committee will be working to prepare for this year’s parade on July 18th. Volunteers are needed.
URL:https://uuch.ca/event/pride-parade-meeting-2/
CATEGORIES:Community Events
END:VEVENT
BEGIN:VEVENT
DTSTART;TZID=America/Halifax:20260329T160000
DTEND;TZID=America/Halifax:20260329T170000
DTSTAMP:20260423T084317
CREATED:20260326T151300Z
LAST-MODIFIED:20260326T151300Z
UID:1398-1774800000-1774803600@uuch.ca
SUMMARY:Spirit Circle
DESCRIPTION:A more informal service inviting openness\, peace\, reflection and connection to something larger.
URL:https://uuch.ca/event/spirit-circle-10/
CATEGORIES:Community Events
END:VEVENT
END:VCALENDAR