BEGIN:VCALENDAR
VERSION:2.0
PRODID:-//Universalist Unitarian Community of Halifax - ECPv6.15.20//NONSGML v1.0//EN
CALSCALE:GREGORIAN
METHOD:PUBLISH
X-WR-CALNAME:Universalist Unitarian Community of Halifax
X-ORIGINAL-URL:https://uuch.ca
X-WR-CALDESC:Events for Universalist Unitarian Community of Halifax
REFRESH-INTERVAL;VALUE=DURATION:PT1H
X-Robots-Tag:noindex
X-PUBLISHED-TTL:PT1H
BEGIN:VTIMEZONE
TZID:America/Halifax
BEGIN:DAYLIGHT
TZOFFSETFROM:-0400
TZOFFSETTO:-0300
TZNAME:ADT
DTSTART:20240310T060000
END:DAYLIGHT
BEGIN:STANDARD
TZOFFSETFROM:-0300
TZOFFSETTO:-0400
TZNAME:AST
DTSTART:20241103T050000
END:STANDARD
BEGIN:DAYLIGHT
TZOFFSETFROM:-0400
TZOFFSETTO:-0300
TZNAME:ADT
DTSTART:20250309T060000
END:DAYLIGHT
BEGIN:STANDARD
TZOFFSETFROM:-0300
TZOFFSETTO:-0400
TZNAME:AST
DTSTART:20251102T050000
END:STANDARD
BEGIN:DAYLIGHT
TZOFFSETFROM:-0400
TZOFFSETTO:-0300
TZNAME:ADT
DTSTART:20260308T060000
END:DAYLIGHT
BEGIN:STANDARD
TZOFFSETFROM:-0300
TZOFFSETTO:-0400
TZNAME:AST
DTSTART:20261101T050000
END:STANDARD
END:VTIMEZONE
BEGIN:VEVENT
DTSTART;TZID=America/Halifax:20250212T120000
DTEND;TZID=America/Halifax:20250212T133000
DTSTAMP:20260424T153003
CREATED:20250131T195016Z
LAST-MODIFIED:20250212T141957Z
UID:785-1739361600-1739367000@uuch.ca
SUMMARY:Lunch Bunch
DESCRIPTION:Bring-Your-Own Bag Lunch get-together. We’ll have a “how’s your spirit today?” check-in and a conversation topic.
URL:https://uuch.ca/event/lunch-bunch-13/
CATEGORIES:Community Events
END:VEVENT
END:VCALENDAR