BEGIN:VCALENDAR
VERSION:2.0
PRODID:-//Universalist Unitarian Community of Halifax - ECPv6.15.20//NONSGML v1.0//EN
CALSCALE:GREGORIAN
METHOD:PUBLISH
X-ORIGINAL-URL:https://uuch.ca
X-WR-CALDESC:Events for Universalist Unitarian Community of Halifax
REFRESH-INTERVAL;VALUE=DURATION:PT1H
X-Robots-Tag:noindex
X-PUBLISHED-TTL:PT1H
BEGIN:VTIMEZONE
TZID:America/Halifax
BEGIN:DAYLIGHT
TZOFFSETFROM:-0400
TZOFFSETTO:-0300
TZNAME:ADT
DTSTART:20250309T060000
END:DAYLIGHT
BEGIN:STANDARD
TZOFFSETFROM:-0300
TZOFFSETTO:-0400
TZNAME:AST
DTSTART:20251102T050000
END:STANDARD
BEGIN:DAYLIGHT
TZOFFSETFROM:-0400
TZOFFSETTO:-0300
TZNAME:ADT
DTSTART:20260308T060000
END:DAYLIGHT
BEGIN:STANDARD
TZOFFSETFROM:-0300
TZOFFSETTO:-0400
TZNAME:AST
DTSTART:20261101T050000
END:STANDARD
BEGIN:DAYLIGHT
TZOFFSETFROM:-0400
TZOFFSETTO:-0300
TZNAME:ADT
DTSTART:20270314T060000
END:DAYLIGHT
BEGIN:STANDARD
TZOFFSETFROM:-0300
TZOFFSETTO:-0400
TZNAME:AST
DTSTART:20271107T050000
END:STANDARD
END:VTIMEZONE
BEGIN:VEVENT
DTSTART;TZID=America/Halifax:20260104T120000
DTEND;TZID=America/Halifax:20260104T133000
DTSTAMP:20260423T124750
CREATED:20260102T154414Z
LAST-MODIFIED:20260102T154414Z
UID:1257-1767528000-1767533400@uuch.ca
SUMMARY:What Makes You Belong?
DESCRIPTION:In the first of a 3-part discussion series on belonging\, we consider what experiences\, behaviours and group norms make you feel like you can be yourself\, not only welcomed but embraced. What makes you show up as you?
URL:https://uuch.ca/event/what-makes-you-belong/
CATEGORIES:Community Events
END:VEVENT
END:VCALENDAR