BEGIN:VCALENDAR
VERSION:2.0
PRODID:-//Universalist Unitarian Community of Halifax - ECPv6.15.20//NONSGML v1.0//EN
CALSCALE:GREGORIAN
METHOD:PUBLISH
X-ORIGINAL-URL:https://uuch.ca
X-WR-CALDESC:Events for Universalist Unitarian Community of Halifax
REFRESH-INTERVAL;VALUE=DURATION:PT1H
X-Robots-Tag:noindex
X-PUBLISHED-TTL:PT1H
BEGIN:VTIMEZONE
TZID:America/Halifax
BEGIN:DAYLIGHT
TZOFFSETFROM:-0400
TZOFFSETTO:-0300
TZNAME:ADT
DTSTART:20250309T060000
END:DAYLIGHT
BEGIN:STANDARD
TZOFFSETFROM:-0300
TZOFFSETTO:-0400
TZNAME:AST
DTSTART:20251102T050000
END:STANDARD
BEGIN:DAYLIGHT
TZOFFSETFROM:-0400
TZOFFSETTO:-0300
TZNAME:ADT
DTSTART:20260308T060000
END:DAYLIGHT
BEGIN:STANDARD
TZOFFSETFROM:-0300
TZOFFSETTO:-0400
TZNAME:AST
DTSTART:20261101T050000
END:STANDARD
BEGIN:DAYLIGHT
TZOFFSETFROM:-0400
TZOFFSETTO:-0300
TZNAME:ADT
DTSTART:20270314T060000
END:DAYLIGHT
BEGIN:STANDARD
TZOFFSETFROM:-0300
TZOFFSETTO:-0400
TZNAME:AST
DTSTART:20271107T050000
END:STANDARD
END:VTIMEZONE
BEGIN:VEVENT
DTSTART;TZID=America/Halifax:20260509T100000
DTEND;TZID=America/Halifax:20260509T113000
DTSTAMP:20260424T224920
CREATED:20260422T132212Z
LAST-MODIFIED:20260422T132212Z
UID:1428-1778320800-1778326200@uuch.ca
SUMMARY:Saturday Brunch
DESCRIPTION:The UUCH brunch programme runs from September through June. We offer a free brunch every Saturday from 10-11:30 am at the UUCH at 5500 Inglis Street. Our usual clients run from school age to 80+. Everyone is welcome and the area is accessible. There is a gated playground and deck for nice days. Volunteers and donations welcome.
URL:https://uuch.ca/event/saturday-brunch-27/
CATEGORIES:Community Events
END:VEVENT
BEGIN:VEVENT
DTSTART;TZID=America/Halifax:20260510T120000
DTEND;TZID=America/Halifax:20260510T133000
DTSTAMP:20260424T224920
CREATED:20260424T135243Z
LAST-MODIFIED:20260424T135243Z
UID:1463-1778414400-1778419800@uuch.ca
SUMMARY:Mother's Day Discussion
DESCRIPTION:Whether you are a mother or have/had a mother\, we will reflect on the question: How has your mother/child relationship changed over the years? You are also welcome to contact Ben if you would like a deeper 1-on-1 conversation\, minister@uuch.ca
URL:https://uuch.ca/event/mothers-day-discussion/
CATEGORIES:Community Events
END:VEVENT
BEGIN:VEVENT
DTSTART;TZID=America/Halifax:20260515T190000
DTEND;TZID=America/Halifax:20260515T213000
DTSTAMP:20260424T224920
CREATED:20260424T135349Z
LAST-MODIFIED:20260424T135349Z
UID:1465-1778871600-1778880600@uuch.ca
SUMMARY:Youth Group
DESCRIPTION:This group meets monthly on the 3rd Friday. Email for the location: minister@uuch.ca \nWe provide a space where youth can build meaningful relationships and grow into themselves in a community that nurtures good values.
URL:https://uuch.ca/event/youth-group-5/
CATEGORIES:Community Events
END:VEVENT
BEGIN:VEVENT
DTSTART;TZID=America/Halifax:20260516T100000
DTEND;TZID=America/Halifax:20260516T113000
DTSTAMP:20260424T224920
CREATED:20260422T132244Z
LAST-MODIFIED:20260422T132244Z
UID:1430-1778925600-1778931000@uuch.ca
SUMMARY:Saturday Brunch
DESCRIPTION:The UUCH brunch programme runs from September through June. We offer a free brunch every Saturday from 10-11:30 am at the UUCH at 5500 Inglis Street. Our usual clients run from school age to 80+. Everyone is welcome and the area is accessible. There is a gated playground and deck for nice days. Volunteers and donations welcome.
URL:https://uuch.ca/event/saturday-brunch-28/
CATEGORIES:Community Events
END:VEVENT
BEGIN:VEVENT
DTSTART;TZID=America/Halifax:20260521T183000
DTEND;TZID=America/Halifax:20260521T203000
DTSTAMP:20260424T224920
CREATED:20260424T135427Z
LAST-MODIFIED:20260424T135427Z
UID:1467-1779388200-1779395400@uuch.ca
SUMMARY:Fentanyl Film Screening at Halifax Central Library
DESCRIPTION:Halifax Central Library is showing the film We Were Here and providing space to remember those lost to fentanyl. Email Ben if you would like to attend together minister@uuch.ca
URL:https://uuch.ca/event/fentanyl-film-screening-at-halifax-central-library/
CATEGORIES:Community Events
END:VEVENT
BEGIN:VEVENT
DTSTART;TZID=America/Halifax:20260523T100000
DTEND;TZID=America/Halifax:20260523T113000
DTSTAMP:20260424T224920
CREATED:20260422T132311Z
LAST-MODIFIED:20260422T132311Z
UID:1432-1779530400-1779535800@uuch.ca
SUMMARY:Saturday Brunch
DESCRIPTION:The UUCH brunch programme runs from September through June. We offer a free brunch every Saturday from 10-11:30 am at the UUCH at 5500 Inglis Street. Our usual clients run from school age to 80+. Everyone is welcome and the area is accessible. There is a gated playground and deck for nice days. Volunteers and donations welcome.
URL:https://uuch.ca/event/saturday-brunch-29/
CATEGORIES:Community Events
END:VEVENT
BEGIN:VEVENT
DTSTART;TZID=America/Halifax:20260524T120000
DTEND;TZID=America/Halifax:20260524T133000
DTSTAMP:20260424T224920
CREATED:20260424T135501Z
LAST-MODIFIED:20260424T135501Z
UID:1469-1779624000-1779629400@uuch.ca
SUMMARY:Discussion: Science Fiction and The Human Experience
DESCRIPTION:How does imagining distant galaxies\, or a future greatly different from today\, influence your experience of living a human life in this world?
URL:https://uuch.ca/event/discussion-science-fiction-and-the-human-experience/
CATEGORIES:Community Events
END:VEVENT
BEGIN:VEVENT
DTSTART;TZID=America/Halifax:20260526T190000
DTEND;TZID=America/Halifax:20260526T203000
DTSTAMP:20260424T224920
CREATED:20260424T135603Z
LAST-MODIFIED:20260424T135603Z
UID:1471-1779822000-1779827400@uuch.ca
SUMMARY:Zoom Discussion: Awe & Wonder
DESCRIPTION:One of the UU sources of wisdom is “Direct experience of that transcending mystery and wonder\, affirmed in all cultures\, which moves us to a renewal of the spirit and an openness to the forces which create and uphold life.” How does awe and wonder move in you? Click the same Zoom link at uuch.ca that you use for Sunday services.
URL:https://uuch.ca/event/zoom-discussion-awe-wonder/
CATEGORIES:Community Events
END:VEVENT
BEGIN:VEVENT
DTSTART;TZID=America/Halifax:20260530T100000
DTEND;TZID=America/Halifax:20260530T113000
DTSTAMP:20260424T224920
CREATED:20260422T132335Z
LAST-MODIFIED:20260422T132335Z
UID:1434-1780135200-1780140600@uuch.ca
SUMMARY:Saturday Brunch
DESCRIPTION:The UUCH brunch programme runs from September through June. We offer a free brunch every Saturday from 10-11:30 am at the UUCH at 5500 Inglis Street. Our usual clients run from school age to 80+. Everyone is welcome and the area is accessible. There is a gated playground and deck for nice days. Volunteers and donations welcome.
URL:https://uuch.ca/event/saturday-brunch-30/
CATEGORIES:Community Events
END:VEVENT
BEGIN:VEVENT
DTSTART;TZID=America/Halifax:20260531T120000
DTEND;TZID=America/Halifax:20260531T133000
DTSTAMP:20260424T224920
CREATED:20260422T131557Z
LAST-MODIFIED:20260422T131557Z
UID:1422-1780228800-1780234200@uuch.ca
SUMMARY:Annual General Meeting (AGM)
DESCRIPTION:Details TBA
URL:https://uuch.ca/event/annual-general-meeting-agm/
CATEGORIES:Community Events
END:VEVENT
BEGIN:VEVENT
DTSTART;TZID=America/Halifax:20260531T160000
DTEND;TZID=America/Halifax:20260531T170000
DTSTAMP:20260424T224920
CREATED:20260424T134750Z
LAST-MODIFIED:20260424T134750Z
UID:1457-1780243200-1780246800@uuch.ca
SUMMARY:Spirit Circle
DESCRIPTION:A more informal service inviting openness\, peace\, reflection and connection to something larger.
URL:https://uuch.ca/event/spirit-circle-12/
CATEGORIES:Community Events
END:VEVENT
BEGIN:VEVENT
DTSTART;TZID=America/Halifax:20260606T100000
DTEND;TZID=America/Halifax:20260606T113000
DTSTAMP:20260424T224920
CREATED:20260423T135041Z
LAST-MODIFIED:20260423T135041Z
UID:1448-1780740000-1780745400@uuch.ca
SUMMARY:Saturday Brunch
DESCRIPTION:The UUCH brunch programme runs from September through June. We offer a free brunch every Saturday from 10-11:30 am at the UUCH at 5500 Inglis Street. Our usual clients run from school age to 80+. Everyone is welcome and the area is accessible. There is a gated playground and deck for nice days. Volunteers and donations welcome.
URL:https://uuch.ca/event/saturday-brunch-31/
CATEGORIES:Community Events
END:VEVENT
BEGIN:VEVENT
DTSTART;TZID=America/Halifax:20260613T100000
DTEND;TZID=America/Halifax:20260613T113000
DTSTAMP:20260424T224920
CREATED:20260423T135113Z
LAST-MODIFIED:20260423T135113Z
UID:1450-1781344800-1781350200@uuch.ca
SUMMARY:Saturday Brunch
DESCRIPTION:The UUCH brunch programme runs from September through June. We offer a free brunch every Saturday from 10-11:30 am at the UUCH at 5500 Inglis Street. Our usual clients run from school age to 80+. Everyone is welcome and the area is accessible. There is a gated playground and deck for nice days. Volunteers and donations welcome.
URL:https://uuch.ca/event/saturday-brunch-32/
CATEGORIES:Community Events
END:VEVENT
BEGIN:VEVENT
DTSTART;TZID=America/Halifax:20260620T100000
DTEND;TZID=America/Halifax:20260620T113000
DTSTAMP:20260424T224920
CREATED:20260423T135159Z
LAST-MODIFIED:20260423T135159Z
UID:1452-1781949600-1781955000@uuch.ca
SUMMARY:Last Saturday Brunch Until September!
DESCRIPTION:The UUCH brunch programme runs from September through June. We offer a free brunch every Saturday from 10-11:30 am at the UUCH at 5500 Inglis Street. Our usual clients run from school age to 80+. Everyone is welcome and the area is accessible. There is a gated playground and deck for nice days. Volunteers and donations welcome.
URL:https://uuch.ca/event/last-saturday-brunch-until-september/
CATEGORIES:Community Events
END:VEVENT
BEGIN:VEVENT
DTSTART;VALUE=DATE:20260704
DTEND;VALUE=DATE:20260705
DTSTAMP:20260424T224920
CREATED:20260326T155914Z
LAST-MODIFIED:20260326T155914Z
UID:1400-1783123200-1783209599@uuch.ca
SUMMARY:UUCH Retreat
DESCRIPTION:Backyard games…Discussions…Workshops…Music-making…Breakfast and lunch at UUCH\, and dinner on the town…Kids program…Youth hike…People coming from the Unitarian Fellowship of Fredericton and beyond…RSVP to minister@uuch.ca
URL:https://uuch.ca/event/uuch-retreat/
CATEGORIES:Community Events
END:VEVENT
END:VCALENDAR