BEGIN:VCALENDAR
VERSION:2.0
PRODID:-//Universalist Unitarian Community of Halifax - ECPv6.15.20//NONSGML v1.0//EN
CALSCALE:GREGORIAN
METHOD:PUBLISH
X-WR-CALNAME:Universalist Unitarian Community of Halifax
X-ORIGINAL-URL:https://uuch.ca
X-WR-CALDESC:Events for Universalist Unitarian Community of Halifax
REFRESH-INTERVAL;VALUE=DURATION:PT1H
X-Robots-Tag:noindex
X-PUBLISHED-TTL:PT1H
BEGIN:VTIMEZONE
TZID:America/Halifax
BEGIN:DAYLIGHT
TZOFFSETFROM:-0400
TZOFFSETTO:-0300
TZNAME:ADT
DTSTART:20240310T060000
END:DAYLIGHT
BEGIN:STANDARD
TZOFFSETFROM:-0300
TZOFFSETTO:-0400
TZNAME:AST
DTSTART:20241103T050000
END:STANDARD
BEGIN:DAYLIGHT
TZOFFSETFROM:-0400
TZOFFSETTO:-0300
TZNAME:ADT
DTSTART:20250309T060000
END:DAYLIGHT
BEGIN:STANDARD
TZOFFSETFROM:-0300
TZOFFSETTO:-0400
TZNAME:AST
DTSTART:20251102T050000
END:STANDARD
BEGIN:DAYLIGHT
TZOFFSETFROM:-0400
TZOFFSETTO:-0300
TZNAME:ADT
DTSTART:20260308T060000
END:DAYLIGHT
BEGIN:STANDARD
TZOFFSETFROM:-0300
TZOFFSETTO:-0400
TZNAME:AST
DTSTART:20261101T050000
END:STANDARD
END:VTIMEZONE
BEGIN:VEVENT
DTSTART;TZID=America/Halifax:20250323T121500
DTEND;TZID=America/Halifax:20250323T133000
DTSTAMP:20260424T095941
CREATED:20250305T170404Z
LAST-MODIFIED:20250305T170404Z
UID:823-1742732100-1742736600@uuch.ca
SUMMARY:Point Pleasant Park Hike
DESCRIPTION:Meet at the upper parking lot. Rides will likely be available from UUCH at noon.
URL:https://uuch.ca/event/point-pleasant-park-hike-2/
CATEGORIES:Community Events
END:VEVENT
BEGIN:VEVENT
DTSTART;TZID=America/Halifax:20250330T120000
DTEND;TZID=America/Halifax:20250330T133000
DTSTAMP:20260424T095941
CREATED:20250305T170649Z
LAST-MODIFIED:20250305T170650Z
UID:827-1743336000-1743341400@uuch.ca
SUMMARY:Building Your Own Theology
DESCRIPTION:This is an opportunity to develop your own personal credo\, the fundamental beliefs\, values\, and convictions that inform and direct your life. Tentative topics include human nature\, ultimate reality\, ethics\, the meaning of life\, and your sense (if any) of the holy. Bring a bag lunch.\nSame time\, same place on April 13th\, May 4th\, May 11th and June 1st. Led by Ben Robins.\nRegister by emailing Ben at minister@uuch.ca
URL:https://uuch.ca/event/building-your-own-theology/
CATEGORIES:Community Events
END:VEVENT
BEGIN:VEVENT
DTSTART;TZID=America/Halifax:20250404T180000
DTEND;TZID=America/Halifax:20250404T210000
DTSTAMP:20260424T095941
CREATED:20250305T170744Z
LAST-MODIFIED:20250305T170744Z
UID:829-1743789600-1743800400@uuch.ca
SUMMARY:Youth Games Night
DESCRIPTION:Contact Ben at minister@uuch.ca for location and details.
URL:https://uuch.ca/event/youth-games-night-2/
CATEGORIES:Community Events
END:VEVENT
BEGIN:VEVENT
DTSTART;TZID=America/Halifax:20250410T183000
DTEND;TZID=America/Halifax:20250410T193000
DTSTAMP:20260424T095941
CREATED:20250326T144056Z
LAST-MODIFIED:20250409T215459Z
UID:845-1744309800-1744313400@uuch.ca
SUMMARY:Pastoral Gathering (online) about Canadian economic uncertainty
DESCRIPTION:Share what’s in your heart – whether it’s anxiety\, hope\, vulnerability\, resilience\, or something else. \nJoin using the Zoom link for our Sunday services – click the link on the main page of our website\, or use this link https://us02web.zoom.us/j/666004431?pwd=RjQvVEtjUjM1MEdnMDgxU0VSRzVLQT09
URL:https://uuch.ca/event/pastoral-gathering-online-about-canadian-economic-uncertainty/
CATEGORIES:Community Events
END:VEVENT
BEGIN:VEVENT
DTSTART;TZID=America/Halifax:20250413T120000
DTEND;TZID=America/Halifax:20250413T133000
DTSTAMP:20260424T095941
CREATED:20250305T171234Z
LAST-MODIFIED:20250305T171234Z
UID:835-1744545600-1744551000@uuch.ca
SUMMARY:Building Your Own Theology
DESCRIPTION:This is an opportunity to develop your own personal credo\, the fundamental beliefs\, values\, and convictions that inform and direct your life. Tentative topics include human nature\, ultimate reality\, ethics\, the meaning of life\, and your sense (if any) of the holy. Bring a bag lunch.\nSame time\, same place on March 30th\, April 13th\, May 4th\, May 11th and June 1st. Led by Ben Robins.\nRegister by emailing Ben at minister@uuch.ca
URL:https://uuch.ca/event/building-your-own-theology-2/
CATEGORIES:Community Events
END:VEVENT
BEGIN:VEVENT
DTSTART;TZID=America/Halifax:20250420T114500
DTEND;TZID=America/Halifax:20250420T130000
DTSTAMP:20260424T095941
CREATED:20250326T144200Z
LAST-MODIFIED:20250326T144200Z
UID:847-1745149500-1745154000@uuch.ca
SUMMARY:Humanist Discussion Group
DESCRIPTION:
URL:https://uuch.ca/event/humanist-discussion-group-3/
CATEGORIES:Community Events
END:VEVENT
BEGIN:VEVENT
DTSTART;TZID=America/Halifax:20250427T180000
DTEND;TZID=America/Halifax:20250427T190000
DTSTAMP:20260424T095941
CREATED:20250326T144255Z
LAST-MODIFIED:20250326T144255Z
UID:849-1745776800-1745780400@uuch.ca
SUMMARY:Spirit Circle
DESCRIPTION:A more informal service inviting openness\, peace\, reflection and connection to something larger.
URL:https://uuch.ca/event/spirit-circle/
CATEGORIES:Community Events
END:VEVENT
BEGIN:VEVENT
DTSTART;TZID=America/Halifax:20250430T190000
DTEND;TZID=America/Halifax:20250430T220000
DTSTAMP:20260424T095941
CREATED:20250326T144430Z
LAST-MODIFIED:20250326T144430Z
UID:851-1746039600-1746050400@uuch.ca
SUMMARY:Open Mic Night
DESCRIPTION:Calling all singers\, singer-songwriters\, poets and more\, let’s light the place up. All welcome\, and if you’d like to perform (up to 3 songs\, space permitting) tell Joe or Ben (minister@uuch.ca) or sign up when you arrive.
URL:https://uuch.ca/event/open-mic-night-4/
CATEGORIES:Community Events
END:VEVENT
BEGIN:VEVENT
DTSTART;TZID=America/Halifax:20250504T120000
DTEND;TZID=America/Halifax:20250504T133000
DTSTAMP:20260424T095941
CREATED:20250305T171320Z
LAST-MODIFIED:20250430T152341Z
UID:837-1746360000-1746365400@uuch.ca
SUMMARY:Building Your Own Theology
DESCRIPTION:This is an opportunity to develop your own personal credo – the fundamental beliefs\, values and convictions that inform and direct your life. Come to any or all of the remaining sessions\, on the following Sundays at noon: \nMay 4th Human nature \nMay 11th Ethics \nJun 1st The meaning of life
URL:https://uuch.ca/event/building-your-own-theology-3/
CATEGORIES:Community Events
END:VEVENT
BEGIN:VEVENT
DTSTART;TZID=America/Halifax:20250511T120000
DTEND;TZID=America/Halifax:20250511T133000
DTSTAMP:20260424T095941
CREATED:20250305T171357Z
LAST-MODIFIED:20250430T152419Z
UID:839-1746964800-1746970200@uuch.ca
SUMMARY:Building Your Own Theology
DESCRIPTION:This is an opportunity to develop your own personal credo – the fundamental beliefs\, values and convictions that inform and direct your life. Come to any or all of the remaining sessions\, on the following Sundays at noon: \nMay 11th Ethics \nJun 1st The meaning of life
URL:https://uuch.ca/event/building-your-own-theology-4/
CATEGORIES:Community Events
END:VEVENT
BEGIN:VEVENT
DTSTART;TZID=America/Halifax:20250525T113000
DTEND;TZID=America/Halifax:20250525T133000
DTSTAMP:20260424T095941
CREATED:20250423T154625Z
LAST-MODIFIED:20250423T154625Z
UID:877-1748172600-1748179800@uuch.ca
SUMMARY:Soup Lunch & AGM
DESCRIPTION:After the Sunday service we will have a Soup lunch followed by our Annual General Meeting.
URL:https://uuch.ca/event/soup-lunch-agm/
CATEGORIES:Community Events
END:VEVENT
BEGIN:VEVENT
DTSTART;TZID=America/Halifax:20250530T180000
DTEND;TZID=America/Halifax:20250530T210000
DTSTAMP:20260424T095941
CREATED:20250430T152118Z
LAST-MODIFIED:20250530T164042Z
UID:897-1748628000-1748638800@uuch.ca
SUMMARY:Youth Event at Activate
DESCRIPTION:Our monthly youth event is at Activate\, for those up to age 18. Email Ben to reserve spots\, minister@uucha.ca. \nArrive at 6pm to begin our time slot at 6:15.
URL:https://uuch.ca/event/youth-event/
CATEGORIES:Community Events
END:VEVENT
BEGIN:VEVENT
DTSTART;TZID=America/Halifax:20250601T120000
DTEND;TZID=America/Halifax:20250601T133000
DTSTAMP:20260424T095941
CREATED:20250305T171449Z
LAST-MODIFIED:20250430T152444Z
UID:841-1748779200-1748784600@uuch.ca
SUMMARY:Building Your Own Theology
DESCRIPTION:This is an opportunity to develop your own personal credo – the fundamental beliefs\, values and convictions that inform and direct your life. Come to any or all of the remaining sessions\, on the following Sundays at noon: \nJun 1st The meaning of life
URL:https://uuch.ca/event/building-your-own-theology-5/
CATEGORIES:Community Events
END:VEVENT
BEGIN:VEVENT
DTSTART;TZID=America/Halifax:20250608T114500
DTEND;TZID=America/Halifax:20250608T130000
DTSTAMP:20260424T095941
CREATED:20250529T132843Z
LAST-MODIFIED:20250529T132843Z
UID:912-1749383100-1749387600@uuch.ca
SUMMARY:Circle of Trust
DESCRIPTION:Using Quaker practices from Parker Palmer’s Center for Courage and Renewal\, we will sit in a circle and make space for silence and personal reflection. This is an experiment that could spark a series in the fall.
URL:https://uuch.ca/event/circle-of-trust-2/
CATEGORIES:Community Events
END:VEVENT
BEGIN:VEVENT
DTSTART;TZID=America/Halifax:20250615T120000
DTEND;TZID=America/Halifax:20250615T133000
DTSTAMP:20260424T095941
CREATED:20250430T151909Z
LAST-MODIFIED:20250430T151909Z
UID:893-1749988800-1749994200@uuch.ca
SUMMARY:June 15th Potluck BBQ at Leslie and Allan Shaw's
DESCRIPTION:Mark your calendars for a potluck BBQ at the Shaw’s house in town\, on Sun Jun 15th after the Sunday service. Thank you Leslie and Allan for hosting!
URL:https://uuch.ca/event/june-15th-potluck-bbq-at-leslie-and-allan-shaws/
CATEGORIES:Community Events
END:VEVENT
BEGIN:VEVENT
DTSTART;TZID=America/Halifax:20250622T180000
DTEND;TZID=America/Halifax:20250622T190000
DTSTAMP:20260424T095941
CREATED:20250612T141157Z
LAST-MODIFIED:20250612T141157Z
UID:924-1750615200-1750618800@uuch.ca
SUMMARY:Spirit Circle
DESCRIPTION:A more informal service inviting openness\, peace\, reflection and connection to something larger.
URL:https://uuch.ca/event/spirit-circle-3/
CATEGORIES:Community Events
END:VEVENT
BEGIN:VEVENT
DTSTART;TZID=America/Halifax:20250727T180000
DTEND;TZID=America/Halifax:20250727T190000
DTSTAMP:20260424T095941
CREATED:20250703T153027Z
LAST-MODIFIED:20250703T153027Z
UID:976-1753639200-1753642800@uuch.ca
SUMMARY:Spirit Circle
DESCRIPTION:A more informal service inviting openness\, peace\, reflection and connection to something larger.
URL:https://uuch.ca/event/spirit-circle-4/
CATEGORIES:Community Events
END:VEVENT
BEGIN:VEVENT
DTSTART;TZID=America/Halifax:20250831T180000
DTEND;TZID=America/Halifax:20250831T190000
DTSTAMP:20260424T095941
CREATED:20250703T153102Z
LAST-MODIFIED:20250801T134914Z
UID:978-1756663200-1756666800@uuch.ca
SUMMARY:Spirit Circle
DESCRIPTION:A more informal service inviting openness\, peace\, reflection and connection to something larger.
URL:https://uuch.ca/event/spirit-circle-5/
CATEGORIES:Community Events
END:VEVENT
BEGIN:VEVENT
DTSTART;TZID=America/Halifax:20250906T160000
DTEND;TZID=America/Halifax:20250906T173000
DTSTAMP:20260424T095941
CREATED:20250903T152738Z
LAST-MODIFIED:20250903T152738Z
UID:1075-1757174400-1757179800@uuch.ca
SUMMARY:UU Young Adults - Fringe Festival
DESCRIPTION:For more details\, email admin @ uuch .ca
URL:https://uuch.ca/event/uu-young-adults-fringe-festival/
CATEGORIES:Community Events
END:VEVENT
BEGIN:VEVENT
DTSTART;TZID=America/Halifax:20250913T100000
DTEND;TZID=America/Halifax:20250913T113000
DTSTAMP:20260424T095941
CREATED:20250819T150026Z
LAST-MODIFIED:20250819T150026Z
UID:1053-1757757600-1757763000@uuch.ca
SUMMARY:Saturday Brunch
DESCRIPTION:The UUCH brunch programme runs from September through June. We offer a free brunch every Saturday from 10-1130 am at the UUCH at 5500 Inglis Street. Our usual clients run from school age to 80+. Everyone is welcome and the area is accessible. There is a gated playground and deck for nice days. Volunteers and donations welcome.
URL:https://uuch.ca/event/saturday-brunch-7/
CATEGORIES:Community Events
END:VEVENT
BEGIN:VEVENT
DTSTART;TZID=America/Halifax:20250914T120000
DTEND;TZID=America/Halifax:20250914T150000
DTSTAMP:20260424T095941
CREATED:20250814T122205Z
LAST-MODIFIED:20250819T144705Z
UID:1023-1757851200-1757862000@uuch.ca
SUMMARY:Congregational Retreat
DESCRIPTION:In our annual retreat at UUCH\, we have deep\, vibrant conversations about who we are as a community and how we might grow more fully into ourselves.
URL:https://uuch.ca/event/congregational-retreat-3/
CATEGORIES:Community Events
END:VEVENT
BEGIN:VEVENT
DTSTART;TZID=America/Halifax:20250919T180000
DTEND;TZID=America/Halifax:20250919T210000
DTSTAMP:20260424T095941
CREATED:20250611T205323Z
LAST-MODIFIED:20250611T205323Z
UID:922-1758304800-1758315600@uuch.ca
SUMMARY:Youth Event: Capture the Flag
DESCRIPTION:Email Ben for the location\, minister@uuch.ca \nWe meet the 3rd Friday of every month\, 6pm-9pm.
URL:https://uuch.ca/event/youth-event-capture-the-flag/
CATEGORIES:Community Events
END:VEVENT
BEGIN:VEVENT
DTSTART;TZID=America/Halifax:20250920T100000
DTEND;TZID=America/Halifax:20250920T113000
DTSTAMP:20260424T095941
CREATED:20250819T150105Z
LAST-MODIFIED:20250819T150105Z
UID:1055-1758362400-1758367800@uuch.ca
SUMMARY:Saturday Brunch
DESCRIPTION:The UUCH brunch programme runs from September through June. We offer a free brunch every Saturday from 10-11:30 am at the UUCH at 5500 Inglis Street. Our usual clients run from school age to 80+. Everyone is welcome and the area is accessible. There is a gated playground and deck for nice days. Volunteers and donations welcome.
URL:https://uuch.ca/event/saturday-brunch-8/
CATEGORIES:Community Events
END:VEVENT
BEGIN:VEVENT
DTSTART;TZID=America/Halifax:20250921T120000
DTEND;TZID=America/Halifax:20250921T133000
DTSTAMP:20260424T095941
CREATED:20250829T144938Z
LAST-MODIFIED:20250829T144938Z
UID:1059-1758456000-1758461400@uuch.ca
SUMMARY:Building Your Own Theology
DESCRIPTION:This is an opportunity to develop your own personal credo – the fundamental beliefs\, values and convictions that inform and direct your life. Come to any or all sessions\, on 1st and 3rd Sundays at noon\, beginning Sept 21st. In the first session we consider humanity’s place in the universe.
URL:https://uuch.ca/event/building-your-own-theology-6/
CATEGORIES:Community Events
END:VEVENT
BEGIN:VEVENT
DTSTART;TZID=America/Halifax:20250927T100000
DTEND;TZID=America/Halifax:20250927T113000
DTSTAMP:20260424T095941
CREATED:20250819T150136Z
LAST-MODIFIED:20250819T150136Z
UID:1057-1758967200-1758972600@uuch.ca
SUMMARY:Saturday Brunch
DESCRIPTION:The UUCH brunch programme runs from September through June. We offer a free brunch every Saturday from 10-11:30 am at the UUCH at 5500 Inglis Street. Our usual clients run from school age to 80+. Everyone is welcome and the area is accessible. There is a gated playground and deck for nice days. Volunteers and donations welcome.
URL:https://uuch.ca/event/saturday-brunch-9/
CATEGORIES:Community Events
END:VEVENT
BEGIN:VEVENT
DTSTART;TZID=America/Halifax:20250927T130000
DTEND;TZID=America/Halifax:20250927T170000
DTSTAMP:20260424T095941
CREATED:20250924T144533Z
LAST-MODIFIED:20250924T144533Z
UID:1114-1758978000-1758992400@uuch.ca
SUMMARY:Work Party
DESCRIPTION:There will be a work party at the church on Saturday\, September 27th from 1pm to 5pm. Come for one hour or stay for the afternoon. There are outdoor chores such as weeding and mowing as well as indoor jobs such as window cleaning and baseboard scrubbing. There are small jobs that may require tools\, do if you have them bring them!  Many hands make for light work!  If this works out we may schedule work parties every 2 to 3 months.
URL:https://uuch.ca/event/work-party/
CATEGORIES:Community Events
END:VEVENT
BEGIN:VEVENT
DTSTART;TZID=America/Halifax:20250928T120000
DTEND;TZID=America/Halifax:20250928T133000
DTSTAMP:20260424T095941
CREATED:20250829T145007Z
LAST-MODIFIED:20250829T145007Z
UID:1061-1759060800-1759066200@uuch.ca
SUMMARY:Humanist Group
DESCRIPTION:Join our humanists for a thought-provoking\, mind-expanding discussion on a topic chosen by the group. We also welcome those who just want to sit in and see what we’re all about
URL:https://uuch.ca/event/humanist-group/
CATEGORIES:Community Events
END:VEVENT
BEGIN:VEVENT
DTSTART;TZID=America/Halifax:20250928T160000
DTEND;TZID=America/Halifax:20250928T170000
DTSTAMP:20260424T095941
CREATED:20250829T145041Z
LAST-MODIFIED:20250829T145041Z
UID:1063-1759075200-1759078800@uuch.ca
SUMMARY:Spirit Circle
DESCRIPTION:A more informal service inviting openness\, peace\, reflection and connection to something larger.
URL:https://uuch.ca/event/spirit-circle-6/
CATEGORIES:Community Events
END:VEVENT
BEGIN:VEVENT
DTSTART;TZID=America/Halifax:20251005T120000
DTEND;TZID=America/Halifax:20251005T133000
DTSTAMP:20260424T095941
CREATED:20250924T141821Z
LAST-MODIFIED:20250924T141821Z
UID:1102-1759665600-1759671000@uuch.ca
SUMMARY:Building Your Own Theology
DESCRIPTION:Topic: Identity\, Individuality and Interdependence. What is your sense of self? \nThis is an opportunity to develop your own personal credo – the fundamental beliefs\, values and convictions that inform and direct your life. Come to any or all sessions\, on 1st and 3rd Sundays at noon.
URL:https://uuch.ca/event/building-your-own-theology-7/
CATEGORIES:Community Events
END:VEVENT
BEGIN:VEVENT
DTSTART;TZID=America/Halifax:20251011T100000
DTEND;TZID=America/Halifax:20251011T113000
DTSTAMP:20260424T095941
CREATED:20251008T131742Z
LAST-MODIFIED:20251008T131742Z
UID:1122-1760176800-1760182200@uuch.ca
SUMMARY:Saturday Brunch
DESCRIPTION:The UUCH brunch programme runs from September through June. We offer a free brunch every Saturday from 10-11:30 am at the UUCH at 5500 Inglis Street. Our usual clients run from school age to 80+. Everyone is welcome and the area is accessible. There is a gated playground and deck for nice days. Volunteers and donations welcome.
URL:https://uuch.ca/event/saturday-brunch-10/
CATEGORIES:Community Events
END:VEVENT
END:VCALENDAR