BEGIN:VCALENDAR
VERSION:2.0
PRODID:-//Universalist Unitarian Community of Halifax - ECPv6.15.20//NONSGML v1.0//EN
CALSCALE:GREGORIAN
METHOD:PUBLISH
X-WR-CALNAME:Universalist Unitarian Community of Halifax
X-ORIGINAL-URL:https://uuch.ca
X-WR-CALDESC:Events for Universalist Unitarian Community of Halifax
REFRESH-INTERVAL;VALUE=DURATION:PT1H
X-Robots-Tag:noindex
X-PUBLISHED-TTL:PT1H
BEGIN:VTIMEZONE
TZID:America/Halifax
BEGIN:DAYLIGHT
TZOFFSETFROM:-0400
TZOFFSETTO:-0300
TZNAME:ADT
DTSTART:20240310T060000
END:DAYLIGHT
BEGIN:STANDARD
TZOFFSETFROM:-0300
TZOFFSETTO:-0400
TZNAME:AST
DTSTART:20241103T050000
END:STANDARD
BEGIN:DAYLIGHT
TZOFFSETFROM:-0400
TZOFFSETTO:-0300
TZNAME:ADT
DTSTART:20250309T060000
END:DAYLIGHT
BEGIN:STANDARD
TZOFFSETFROM:-0300
TZOFFSETTO:-0400
TZNAME:AST
DTSTART:20251102T050000
END:STANDARD
BEGIN:DAYLIGHT
TZOFFSETFROM:-0400
TZOFFSETTO:-0300
TZNAME:ADT
DTSTART:20260308T060000
END:DAYLIGHT
BEGIN:STANDARD
TZOFFSETFROM:-0300
TZOFFSETTO:-0400
TZNAME:AST
DTSTART:20261101T050000
END:STANDARD
END:VTIMEZONE
BEGIN:VEVENT
DTSTART;TZID=America/Halifax:20250927T100000
DTEND;TZID=America/Halifax:20250927T113000
DTSTAMP:20260424T124849
CREATED:20250819T150136Z
LAST-MODIFIED:20250819T150136Z
UID:1057-1758967200-1758972600@uuch.ca
SUMMARY:Saturday Brunch
DESCRIPTION:The UUCH brunch programme runs from September through June. We offer a free brunch every Saturday from 10-11:30 am at the UUCH at 5500 Inglis Street. Our usual clients run from school age to 80+. Everyone is welcome and the area is accessible. There is a gated playground and deck for nice days. Volunteers and donations welcome.
URL:https://uuch.ca/event/saturday-brunch-9/
CATEGORIES:Community Events
END:VEVENT
BEGIN:VEVENT
DTSTART;TZID=America/Halifax:20250927T130000
DTEND;TZID=America/Halifax:20250927T170000
DTSTAMP:20260424T124849
CREATED:20250924T144533Z
LAST-MODIFIED:20250924T144533Z
UID:1114-1758978000-1758992400@uuch.ca
SUMMARY:Work Party
DESCRIPTION:There will be a work party at the church on Saturday\, September 27th from 1pm to 5pm. Come for one hour or stay for the afternoon. There are outdoor chores such as weeding and mowing as well as indoor jobs such as window cleaning and baseboard scrubbing. There are small jobs that may require tools\, do if you have them bring them!  Many hands make for light work!  If this works out we may schedule work parties every 2 to 3 months.
URL:https://uuch.ca/event/work-party/
CATEGORIES:Community Events
END:VEVENT
BEGIN:VEVENT
DTSTART;TZID=America/Halifax:20250928T120000
DTEND;TZID=America/Halifax:20250928T133000
DTSTAMP:20260424T124849
CREATED:20250829T145007Z
LAST-MODIFIED:20250829T145007Z
UID:1061-1759060800-1759066200@uuch.ca
SUMMARY:Humanist Group
DESCRIPTION:Join our humanists for a thought-provoking\, mind-expanding discussion on a topic chosen by the group. We also welcome those who just want to sit in and see what we’re all about
URL:https://uuch.ca/event/humanist-group/
CATEGORIES:Community Events
END:VEVENT
BEGIN:VEVENT
DTSTART;TZID=America/Halifax:20250928T160000
DTEND;TZID=America/Halifax:20250928T170000
DTSTAMP:20260424T124849
CREATED:20250829T145041Z
LAST-MODIFIED:20250829T145041Z
UID:1063-1759075200-1759078800@uuch.ca
SUMMARY:Spirit Circle
DESCRIPTION:A more informal service inviting openness\, peace\, reflection and connection to something larger.
URL:https://uuch.ca/event/spirit-circle-6/
CATEGORIES:Community Events
END:VEVENT
BEGIN:VEVENT
DTSTART;TZID=America/Halifax:20251005T120000
DTEND;TZID=America/Halifax:20251005T133000
DTSTAMP:20260424T124849
CREATED:20250924T141821Z
LAST-MODIFIED:20250924T141821Z
UID:1102-1759665600-1759671000@uuch.ca
SUMMARY:Building Your Own Theology
DESCRIPTION:Topic: Identity\, Individuality and Interdependence. What is your sense of self? \nThis is an opportunity to develop your own personal credo – the fundamental beliefs\, values and convictions that inform and direct your life. Come to any or all sessions\, on 1st and 3rd Sundays at noon.
URL:https://uuch.ca/event/building-your-own-theology-7/
CATEGORIES:Community Events
END:VEVENT
BEGIN:VEVENT
DTSTART;TZID=America/Halifax:20251011T100000
DTEND;TZID=America/Halifax:20251011T113000
DTSTAMP:20260424T124849
CREATED:20251008T131742Z
LAST-MODIFIED:20251008T131742Z
UID:1122-1760176800-1760182200@uuch.ca
SUMMARY:Saturday Brunch
DESCRIPTION:The UUCH brunch programme runs from September through June. We offer a free brunch every Saturday from 10-11:30 am at the UUCH at 5500 Inglis Street. Our usual clients run from school age to 80+. Everyone is welcome and the area is accessible. There is a gated playground and deck for nice days. Volunteers and donations welcome.
URL:https://uuch.ca/event/saturday-brunch-10/
CATEGORIES:Community Events
END:VEVENT
BEGIN:VEVENT
DTSTART;TZID=America/Halifax:20251012T120000
DTEND;TZID=America/Halifax:20251012T130000
DTSTAMP:20260424T124849
CREATED:20250924T141441Z
LAST-MODIFIED:20250924T141441Z
UID:1094-1760270400-1760274000@uuch.ca
SUMMARY:Circle of Trust
DESCRIPTION:Using Quaker practices from Parker Palmer’s Center for Courage and Renewal\, we will sit in a circle and make space for silence\, personal reflection and open honest questions. Monthly on the 2nd Sunday at noon.
URL:https://uuch.ca/event/circle-of-trust/
CATEGORIES:Community Events
END:VEVENT
BEGIN:VEVENT
DTSTART;TZID=America/Halifax:20251013T150000
DTEND;TZID=America/Halifax:20251013T180000
DTSTAMP:20260424T124849
CREATED:20250903T155817Z
LAST-MODIFIED:20251008T132841Z
UID:1085-1760367600-1760378400@uuch.ca
SUMMARY:Potluck Thanksgiving Dinner
DESCRIPTION:This friendly\, annual potluck dinner is open to anyone who wants to celebrate the feast of Thanksgiving with a gathering of friends and good food.\nWe’ll have a sign-up sheet at church on Sunday. You can also email Faith Piccolo at fapic6 @gmail.com with your contribution\, and the number in your party. \nHere are some suggestions:\nTurkey: We need 2\, fully cooked\nPotatoes: Mashed\, roasted\, baked\, scalloped or whatever\nVegetables: Carrots\, turnip\, peas\, sprouts\, broccoli…\nGravy\nSalads\nCasseroles: Vegetarian or meat\nVegetarian side dishes\nRolls and butter\nCondiments: Pickles\, cranberry sauce\nDesserts: Pie\, cake\, pudding\, ice cream\, fruit\, etc.\nJuices \nMake sure food is fully cooked and still warm if possible when you arrive. We have limited stove space.\nDon’t cook? Consider butter\, rolls\, juice\, cranberry sauce\, pickles\, pies\, etc.\nWe’ll also need volunteers for set up\, clean up\, and dishes\, dishes\, dishes. \nSo\, let us know what you’re bringing and how many guests in your party. Please know that all are welcome\, with or without a food contribution. Just let Faith know numbers so we have enough food.\nBring a take-out container in case of leftovers!\nWe hope to see you here!
URL:https://uuch.ca/event/potluck-thanksgiving-dinner/
CATEGORIES:Community Events
END:VEVENT
BEGIN:VEVENT
DTSTART;TZID=America/Halifax:20251017T180000
DTEND;TZID=America/Halifax:20251017T210000
DTSTAMP:20260424T124849
CREATED:20250924T141530Z
LAST-MODIFIED:20250924T141530Z
UID:1096-1760724000-1760734800@uuch.ca
SUMMARY:Youth Group
DESCRIPTION:Email Ben for the location and details\, minister@uuch.ca. Youth meet the 3rd Friday of every month at 6pm.
URL:https://uuch.ca/event/youth-group/
CATEGORIES:Community Events
END:VEVENT
BEGIN:VEVENT
DTSTART;TZID=America/Halifax:20251018T100000
DTEND;TZID=America/Halifax:20251018T113000
DTSTAMP:20260424T124849
CREATED:20251008T131805Z
LAST-MODIFIED:20251008T131805Z
UID:1124-1760781600-1760787000@uuch.ca
SUMMARY:Saturday Brunch
DESCRIPTION:The UUCH brunch programme runs from September through June. We offer a free brunch every Saturday from 10-11:30 am at the UUCH at 5500 Inglis Street. Our usual clients run from school age to 80+. Everyone is welcome and the area is accessible. There is a gated playground and deck for nice days. Volunteers and donations welcome.
URL:https://uuch.ca/event/saturday-brunch-11/
CATEGORIES:Community Events
END:VEVENT
BEGIN:VEVENT
DTSTART;TZID=America/Halifax:20251019T103000
DTEND;TZID=America/Halifax:20251019T113000
DTSTAMP:20260424T124849
CREATED:20250924T142520Z
LAST-MODIFIED:20250924T142520Z
UID:1110-1760869800-1760873400@uuch.ca
SUMMARY:Service: Land Acknowledgements and Complex Truths
DESCRIPTION:Every Sunday we acknowledge the land and its historical and ongoing connection to the Mi’kmaq people\, and we recommit to the Peace & Friendship Treaties. Today we take a broader look at land acknowledgements around the world\, their various goals\, and the complex truths of land acknowledgements that you might shy away from talking about.
URL:https://uuch.ca/event/service-land-acknowledgements-and-complex-truths/
CATEGORIES:Community Events
END:VEVENT
BEGIN:VEVENT
DTSTART;TZID=America/Halifax:20251019T120000
DTEND;TZID=America/Halifax:20251019T133000
DTSTAMP:20260424T124849
CREATED:20250924T141918Z
LAST-MODIFIED:20250924T141918Z
UID:1104-1760875200-1760880600@uuch.ca
SUMMARY:Building Your Own Theology
DESCRIPTION:Topic: Whose Are You? What people\, principles or vision are you devoted to? \nThis is an opportunity to develop your own personal credo – the fundamental beliefs\, values and convictions that inform and direct your life. Come to any or all sessions\, on 1st and 3rd Sundays at noon.
URL:https://uuch.ca/event/building-your-own-theology-8/
CATEGORIES:Community Events
END:VEVENT
BEGIN:VEVENT
DTSTART;TZID=America/Halifax:20251021T190000
DTEND;TZID=America/Halifax:20251021T210000
DTSTAMP:20260424T124849
CREATED:20251001T165644Z
LAST-MODIFIED:20251001T165644Z
UID:1118-1761073200-1761080400@uuch.ca
SUMMARY:Queer Games Night
DESCRIPTION:Bring a game to share or play what’s there! All welcome
URL:https://uuch.ca/event/queer-games-night/
CATEGORIES:Community Events
END:VEVENT
BEGIN:VEVENT
DTSTART;TZID=America/Halifax:20251025T100000
DTEND;TZID=America/Halifax:20251025T113000
DTSTAMP:20260424T124849
CREATED:20251008T131828Z
LAST-MODIFIED:20251008T131828Z
UID:1126-1761386400-1761391800@uuch.ca
SUMMARY:Saturday Brunch
DESCRIPTION:The UUCH brunch programme runs from September through June. We offer a free brunch every Saturday from 10-11:30 am at the UUCH at 5500 Inglis Street. Our usual clients run from school age to 80+. Everyone is welcome and the area is accessible. There is a gated playground and deck for nice days. Volunteers and donations welcome.
URL:https://uuch.ca/event/saturday-brunch-12/
CATEGORIES:Community Events
END:VEVENT
BEGIN:VEVENT
DTSTART;TZID=America/Halifax:20251026T103000
DTEND;TZID=America/Halifax:20251026T113000
DTSTAMP:20260424T124849
CREATED:20250924T142622Z
LAST-MODIFIED:20250924T142622Z
UID:1112-1761474600-1761478200@uuch.ca
SUMMARY:Service: An Ancestor's Breath
DESCRIPTION:As the nights grow longer\, we might feel a special connection with those who came before.\nBring photos of loved ones for our altar\, or email a photo to minister@uuch.ca for a slideshow. Not just photos\, anything that helps you to feel the connection is welcome.\nYour connection might be to family\, chosen family\, or  to a weaver of one of your beloved traditions. \nWe’ll hear stories that connect our sense of belonging through time.
URL:https://uuch.ca/event/service-an-ancestors-breath/
CATEGORIES:Community Events
END:VEVENT
BEGIN:VEVENT
DTSTART;TZID=America/Halifax:20251026T120000
DTEND;TZID=America/Halifax:20251026T133000
DTSTAMP:20260424T124849
CREATED:20250924T141633Z
LAST-MODIFIED:20250924T141633Z
UID:1098-1761480000-1761485400@uuch.ca
SUMMARY:Humanist Group
DESCRIPTION:Join our humanists for a thought-provoking\, mind-expanding discussion on a topic chosen by the group. We also welcome those who just want to sit in and see what we’re all about.
URL:https://uuch.ca/event/humanist-group-2/
CATEGORIES:Community Events
END:VEVENT
BEGIN:VEVENT
DTSTART;TZID=America/Halifax:20251026T160000
DTEND;TZID=America/Halifax:20251026T170000
DTSTAMP:20260424T124849
CREATED:20250924T141707Z
LAST-MODIFIED:20250924T141707Z
UID:1100-1761494400-1761498000@uuch.ca
SUMMARY:Spirit Circle
DESCRIPTION:A more informal service inviting openness\, peace\, reflection and connection to something larger.
URL:https://uuch.ca/event/spirit-circle-7/
CATEGORIES:Community Events
END:VEVENT
BEGIN:VEVENT
DTSTART;TZID=America/Halifax:20251030T193000
DTEND;TZID=America/Halifax:20251030T210000
DTSTAMP:20260424T124849
CREATED:20250924T153751Z
LAST-MODIFIED:20250924T153751Z
UID:1116-1761852600-1761858000@uuch.ca
SUMMARY:Spooky Poetry Night
DESCRIPTION:On the night before Halloween\, we’ll gather for hot chocolate and then read soulful poems under the stars. Bring a spooky poem\, story or song.
URL:https://uuch.ca/event/spooky-poetry-night/
CATEGORIES:Community Events
END:VEVENT
BEGIN:VEVENT
DTSTART;TZID=America/Halifax:20251101T100000
DTEND;TZID=America/Halifax:20251101T113000
DTSTAMP:20260424T124849
CREATED:20251008T131852Z
LAST-MODIFIED:20251008T131904Z
UID:1128-1761991200-1761996600@uuch.ca
SUMMARY:Saturday Brunch
DESCRIPTION:The UUCH brunch programme runs from September through June. We offer a free brunch every Saturday from 10-11:30 am at the UUCH at 5500 Inglis Street. Our usual clients run from school age to 80+. Everyone is welcome and the area is accessible. There is a gated playground and deck for nice days. Volunteers and donations welcome.
URL:https://uuch.ca/event/saturday-brunch-13/
CATEGORIES:Community Events
END:VEVENT
BEGIN:VEVENT
DTSTART;TZID=America/Halifax:20251102T120000
DTEND;TZID=America/Halifax:20251102T140000
DTSTAMP:20260424T124849
CREATED:20251024T173147Z
LAST-MODIFIED:20251024T173147Z
UID:1146-1762084800-1762092000@uuch.ca
SUMMARY:Semi-Annual General Meeting (SAGM)
DESCRIPTION:Members and friends are welcome to attend.
URL:https://uuch.ca/event/semi-annual-general-meeting-sagm-2/
CATEGORIES:Community Events
END:VEVENT
BEGIN:VEVENT
DTSTART;TZID=America/Halifax:20251108T100000
DTEND;TZID=America/Halifax:20251108T113000
DTSTAMP:20260424T124849
CREATED:20251008T131930Z
LAST-MODIFIED:20251008T131930Z
UID:1130-1762596000-1762601400@uuch.ca
SUMMARY:Saturday Brunch
DESCRIPTION:The UUCH brunch programme runs from September through June. We offer a free brunch every Saturday from 10-11:30 am at the UUCH at 5500 Inglis Street. Our usual clients run from school age to 80+. Everyone is welcome and the area is accessible. There is a gated playground and deck for nice days. Volunteers and donations welcome.
URL:https://uuch.ca/event/saturday-brunch-14/
CATEGORIES:Community Events
END:VEVENT
BEGIN:VEVENT
DTSTART;TZID=America/Halifax:20251109T133000
DTEND;TZID=America/Halifax:20251109T143000
DTSTAMP:20260424T124849
CREATED:20251024T173228Z
LAST-MODIFIED:20251030T152103Z
UID:1148-1762695000-1762698600@uuch.ca
SUMMARY:Circle of Trust
DESCRIPTION:Using Quaker practices from Parker Palmer’s Center for Courage and Renewal\, we will sit in a circle and make space for silence\, personal reflection and open honest questions. Monthly on the 2nd Sunday at noon.
URL:https://uuch.ca/event/circle-of-trust-3/
CATEGORIES:Community Events
END:VEVENT
BEGIN:VEVENT
DTSTART;TZID=America/Halifax:20251115T100000
DTEND;TZID=America/Halifax:20251115T113000
DTSTAMP:20260424T124849
CREATED:20251008T131958Z
LAST-MODIFIED:20251008T131958Z
UID:1132-1763200800-1763206200@uuch.ca
SUMMARY:Saturday Brunch
DESCRIPTION:The UUCH brunch programme runs from September through June. We offer a free brunch every Saturday from 10-11:30 am at the UUCH at 5500 Inglis Street. Our usual clients run from school age to 80+. Everyone is welcome and the area is accessible. There is a gated playground and deck for nice days. Volunteers and donations welcome.
URL:https://uuch.ca/event/saturday-brunch-15/
CATEGORIES:Community Events
END:VEVENT
BEGIN:VEVENT
DTSTART;TZID=America/Halifax:20251116T120000
DTEND;TZID=America/Halifax:20251116T133000
DTSTAMP:20260424T124849
CREATED:20251024T173319Z
LAST-MODIFIED:20251024T173319Z
UID:1150-1763294400-1763299800@uuch.ca
SUMMARY:Building Your Own Theology
DESCRIPTION:This is an opportunity to develop your own personal credo – the fundamental beliefs\, values and convictions that inform and direct your life. Come to any or all sessions. The topic this Sunday is: The Risks We Take.
URL:https://uuch.ca/event/building-your-own-theology-9/
CATEGORIES:Community Events
END:VEVENT
BEGIN:VEVENT
DTSTART;TZID=America/Halifax:20251120T183000
DTEND;TZID=America/Halifax:20251120T203000
DTSTAMP:20260424T124849
CREATED:20251023T162701Z
LAST-MODIFIED:20251023T162701Z
UID:1144-1763663400-1763670600@uuch.ca
SUMMARY:Writing as Spiritual Practice
DESCRIPTION:This will be a practice of open-heartedness\, curiosity\, reflection\, and expression through writing. We will focus on spiritual engagement\, not writing critique or technical skills. Come to one or both sessions. \nThursday Nov 6 & 20\, 6:30 – 8:30 pm
URL:https://uuch.ca/event/writing-as-spiritual-practice-2/
CATEGORIES:Community Events
END:VEVENT
BEGIN:VEVENT
DTSTART;TZID=America/Halifax:20251121T180000
DTEND;TZID=America/Halifax:20251121T210000
DTSTAMP:20260424T124849
CREATED:20251105T171409Z
LAST-MODIFIED:20251105T171409Z
UID:1172-1763748000-1763758800@uuch.ca
SUMMARY:Youth Group
DESCRIPTION:Email Ben for the location and details\, minister@uuch.ca. Youth meet the 3rd Friday of every month at 6pm.
URL:https://uuch.ca/event/youth-group-2/
CATEGORIES:Community Events
END:VEVENT
BEGIN:VEVENT
DTSTART;TZID=America/Halifax:20251122T100000
DTEND;TZID=America/Halifax:20251122T113000
DTSTAMP:20260424T124849
CREATED:20251008T132026Z
LAST-MODIFIED:20251008T132026Z
UID:1134-1763805600-1763811000@uuch.ca
SUMMARY:Saturday Brunch
DESCRIPTION:The UUCH brunch programme runs from September through June. We offer a free brunch every Saturday from 10-11:30 am at the UUCH at 5500 Inglis Street. Our usual clients run from school age to 80+. Everyone is welcome and the area is accessible. There is a gated playground and deck for nice days. Volunteers and donations welcome.
URL:https://uuch.ca/event/saturday-brunch-16/
CATEGORIES:Community Events
END:VEVENT
BEGIN:VEVENT
DTSTART;TZID=America/Halifax:20251123T120000
DTEND;TZID=America/Halifax:20251123T130000
DTSTAMP:20260424T124849
CREATED:20251024T173402Z
LAST-MODIFIED:20251024T173402Z
UID:1152-1763899200-1763902800@uuch.ca
SUMMARY:Humanist Group
DESCRIPTION:Join our humanists for a thought-provoking\, mind-expanding discussion on a topic chosen by the group. We also welcome those who just want to sit in and see what we’re all about.
URL:https://uuch.ca/event/humanist-group-3/
CATEGORIES:Community Events
END:VEVENT
BEGIN:VEVENT
DTSTART;TZID=America/Halifax:20251129T100000
DTEND;TZID=America/Halifax:20251129T113000
DTSTAMP:20260424T124849
CREATED:20251008T132055Z
LAST-MODIFIED:20251008T132055Z
UID:1136-1764410400-1764415800@uuch.ca
SUMMARY:Saturday Brunch
DESCRIPTION:The UUCH brunch programme runs from September through June. We offer a free brunch every Saturday from 10-11:30 am at the UUCH at 5500 Inglis Street. Our usual clients run from school age to 80+. Everyone is welcome and the area is accessible. There is a gated playground and deck for nice days. Volunteers and donations welcome.
URL:https://uuch.ca/event/saturday-brunch-17/
CATEGORIES:Community Events
END:VEVENT
BEGIN:VEVENT
DTSTART;TZID=America/Halifax:20251130T160000
DTEND;TZID=America/Halifax:20251130T170000
DTSTAMP:20260424T124849
CREATED:20251024T173434Z
LAST-MODIFIED:20251024T173434Z
UID:1154-1764518400-1764522000@uuch.ca
SUMMARY:Spirit Circle
DESCRIPTION:A more informal service inviting openness\, peace\, reflection and connection to something larger.
URL:https://uuch.ca/event/spirit-circle-8/
CATEGORIES:Community Events
END:VEVENT
END:VCALENDAR