BEGIN:VCALENDAR
VERSION:2.0
PRODID:-//Universalist Unitarian Community of Halifax - ECPv6.15.20//NONSGML v1.0//EN
CALSCALE:GREGORIAN
METHOD:PUBLISH
X-WR-CALNAME:Universalist Unitarian Community of Halifax
X-ORIGINAL-URL:https://uuch.ca
X-WR-CALDESC:Events for Universalist Unitarian Community of Halifax
REFRESH-INTERVAL;VALUE=DURATION:PT1H
X-Robots-Tag:noindex
X-PUBLISHED-TTL:PT1H
BEGIN:VTIMEZONE
TZID:America/Halifax
BEGIN:DAYLIGHT
TZOFFSETFROM:-0400
TZOFFSETTO:-0300
TZNAME:ADT
DTSTART:20250309T060000
END:DAYLIGHT
BEGIN:STANDARD
TZOFFSETFROM:-0300
TZOFFSETTO:-0400
TZNAME:AST
DTSTART:20251102T050000
END:STANDARD
BEGIN:DAYLIGHT
TZOFFSETFROM:-0400
TZOFFSETTO:-0300
TZNAME:ADT
DTSTART:20260308T060000
END:DAYLIGHT
BEGIN:STANDARD
TZOFFSETFROM:-0300
TZOFFSETTO:-0400
TZNAME:AST
DTSTART:20261101T050000
END:STANDARD
BEGIN:DAYLIGHT
TZOFFSETFROM:-0400
TZOFFSETTO:-0300
TZNAME:ADT
DTSTART:20270314T060000
END:DAYLIGHT
BEGIN:STANDARD
TZOFFSETFROM:-0300
TZOFFSETTO:-0400
TZNAME:AST
DTSTART:20271107T050000
END:STANDARD
END:VTIMEZONE
BEGIN:VEVENT
DTSTART;TZID=America/Halifax:20260322T120000
DTEND;TZID=America/Halifax:20260322T130000
DTSTAMP:20260423T011145
CREATED:20260226T141626Z
LAST-MODIFIED:20260226T141626Z
UID:1370-1774180800-1774184400@uuch.ca
SUMMARY:Discussion: Protest and Building Bridges
DESCRIPTION:How can we best engage in political protest\, when the goal is both changing the world and overcoming divisions?
URL:https://uuch.ca/event/discussion-protest-and-building-bridges/
CATEGORIES:Community Events
END:VEVENT
BEGIN:VEVENT
DTSTART;TZID=America/Halifax:20260327T190000
DTEND;TZID=America/Halifax:20260327T210000
DTSTAMP:20260423T011145
CREATED:20260226T141712Z
LAST-MODIFIED:20260325T145242Z
UID:1372-1774638000-1774645200@uuch.ca
SUMMARY:Youth Group Crafting and Board Games
DESCRIPTION:Note the date is not our usual 3rd Friday of the month\, due to March Break. Email for the location: minister@uuch.ca \nWe will have Easter crafts and card-making. You can also bring your favourite board games. \nWe provide a space where youth can build meaningful relationships and grow into themselves in a community that nurtures good values.
URL:https://uuch.ca/event/youth-group-crafting-and-board-games/
CATEGORIES:Community Events
END:VEVENT
BEGIN:VEVENT
DTSTART;TZID=America/Halifax:20260329T103000
DTEND;TZID=America/Halifax:20260329T113000
DTSTAMP:20260423T011145
CREATED:20260226T140557Z
LAST-MODIFIED:20260226T140557Z
UID:1356-1774780200-1774783800@uuch.ca
SUMMARY:Service: The Danger of Uranium Mining
DESCRIPTION:The spectre of uranium exploration and mining has arisen again in our province\, with the government lifting their long-established ban. Dr. Nancy Covington of our UU Community and a member of the Canadian Association of Physicians for the Environment will speak to us about the danger of uranium mining for people and the environment and the urgency of this situation.
URL:https://uuch.ca/event/service-the-danger-of-uranium-mining/
CATEGORIES:Sunday Services
END:VEVENT
BEGIN:VEVENT
DTSTART;TZID=America/Halifax:20260329T120000
DTEND;TZID=America/Halifax:20260329T133000
DTSTAMP:20260423T011145
CREATED:20260306T144338Z
LAST-MODIFIED:20260306T144338Z
UID:1376-1774785600-1774791000@uuch.ca
SUMMARY:Pride Parade Meeting
DESCRIPTION:Since the 1990’s UUCH has participated in the Halifax annual Pride Parade. Now in 2026 more than ever\, we need to stand up for the principles of Diversity\, Equity and Inclusion that are central to our faith.\nIn the weeks ahead\, your Pride Planning Committee will be working to prepare for this year’s parade on July 18th. Volunteers are needed.
URL:https://uuch.ca/event/pride-parade-meeting-2/
CATEGORIES:Community Events
END:VEVENT
BEGIN:VEVENT
DTSTART;TZID=America/Halifax:20260329T160000
DTEND;TZID=America/Halifax:20260329T170000
DTSTAMP:20260423T011145
CREATED:20260326T151300Z
LAST-MODIFIED:20260326T151300Z
UID:1398-1774800000-1774803600@uuch.ca
SUMMARY:Spirit Circle
DESCRIPTION:A more informal service inviting openness\, peace\, reflection and connection to something larger.
URL:https://uuch.ca/event/spirit-circle-10/
CATEGORIES:Community Events
END:VEVENT
BEGIN:VEVENT
DTSTART;TZID=America/Halifax:20260405T103000
DTEND;TZID=America/Halifax:20260405T113000
DTSTAMP:20260423T011145
CREATED:20260325T145751Z
LAST-MODIFIED:20260325T145751Z
UID:1392-1775385000-1775388600@uuch.ca
SUMMARY:Service: Resurrection and Renewal (and maple communion)
DESCRIPTION:Borrowing from traditional Easter and springtime themes\, our own Brett Richardson will draw from aspects of his own story\, having walked through addiction\, homelessness and recovery to explore the relationships between spiritual death and resurrection; isolation and connection; and autonomy and community. We will consider how to participate in community in ways that make giving feel like receiving and receiving feel like giving. We will also celebrate our annual maple communion.
URL:https://uuch.ca/event/service-resurrection-and-renewal-and-maple-communion/
CATEGORIES:Sunday Services
END:VEVENT
BEGIN:VEVENT
DTSTART;TZID=America/Halifax:20260407T190000
DTEND;TZID=America/Halifax:20260407T203000
DTSTAMP:20260423T011145
CREATED:20260226T141430Z
LAST-MODIFIED:20260226T141430Z
UID:1364-1775588400-1775593800@uuch.ca
SUMMARY:UU Principles Reflection Circle (online)
DESCRIPTION:January through April\, 1st and 2nd Tuesdays\, on Zoom. It is the same Zoom link as our Sunday services. https://us02web.zoom.us/j/666004431?pwd=RjQvVEtjUjM1MEdnMDgxU0VSRzVLQT09\nIn each session\, we will explore one of our 8 principles: What the principle means to you; how it has shown up in your life; how you might live it more fully; how it enhances or challenges your other deeply held beliefs.\nIn this reflection circle\, we help each other to tune into our own inner teachers. This is not a space for advising\, correcting\, steering or testing each other. Come as a fellow traveller as we weave our learning journeys together.\nYou are encouraged to attend most or all sessions. Drop-ins are also welcome.\nEmail Ben to receive reflection questions in advance of each session\, minister@uuch.ca.
URL:https://uuch.ca/event/uu-principles-reflection-circle-online-7/
CATEGORIES:Community Events
END:VEVENT
BEGIN:VEVENT
DTSTART;TZID=America/Halifax:20260409T183000
DTEND;TZID=America/Halifax:20260409T203000
DTSTAMP:20260423T011145
CREATED:20260326T160107Z
LAST-MODIFIED:20260326T160107Z
UID:1402-1775759400-1775766600@uuch.ca
SUMMARY:Artsparks (art making & crafting)
DESCRIPTION:
URL:https://uuch.ca/event/artsparks-art-making-crafting/
END:VEVENT
BEGIN:VEVENT
DTSTART;TZID=America/Halifax:20260411T140000
DTEND;TZID=America/Halifax:20260411T160000
DTSTAMP:20260423T011145
CREATED:20260306T144543Z
LAST-MODIFIED:20260306T144543Z
UID:1378-1775916000-1775923200@uuch.ca
SUMMARY:Celebration of Life: Mary Lu MacDonald
DESCRIPTION:https://www.legacy.com/ca/obituaries/theglobeandmail/name/mary-macdonald-obituary?id=60619038
URL:https://uuch.ca/event/celebration-of-life-mary-lu-macdonald/
CATEGORIES:Community Events
END:VEVENT
BEGIN:VEVENT
DTSTART;TZID=America/Halifax:20260412T103000
DTEND;TZID=America/Halifax:20260412T113000
DTSTAMP:20260423T011145
CREATED:20260325T145903Z
LAST-MODIFIED:20260325T145903Z
UID:1394-1775989800-1775993400@uuch.ca
SUMMARY:Service: Songs for the Living with George Woodhouse
DESCRIPTION:Why do humans make music? Perhaps as an act of self-exploration\, liberation\, or connection with something beyond ourselves. Today we explore song-writing as a way of being human\, a way of being alive. With guest musician George Woodhouse
URL:https://uuch.ca/event/service-songs-for-the-living-with-george-woodhouse/
CATEGORIES:Sunday Services
END:VEVENT
BEGIN:VEVENT
DTSTART;TZID=America/Halifax:20260414T190000
DTEND;TZID=America/Halifax:20260414T203000
DTSTAMP:20260423T011145
CREATED:20260226T141508Z
LAST-MODIFIED:20260226T141508Z
UID:1366-1776193200-1776198600@uuch.ca
SUMMARY:UU Principles Reflection Circle (online)
DESCRIPTION:January through April\, 1st and 2nd Tuesdays\, on Zoom. It is the same Zoom link as our Sunday services. https://us02web.zoom.us/j/666004431?pwd=RjQvVEtjUjM1MEdnMDgxU0VSRzVLQT09\nIn each session\, we will explore one of our 8 principles: What the principle means to you; how it has shown up in your life; how you might live it more fully; how it enhances or challenges your other deeply held beliefs.\nIn this reflection circle\, we help each other to tune into our own inner teachers. This is not a space for advising\, correcting\, steering or testing each other. Come as a fellow traveller as we weave our learning journeys together.\nYou are encouraged to attend most or all sessions. Drop-ins are also welcome.\nEmail Ben to receive reflection questions in advance of each session\, minister@uuch.ca.
URL:https://uuch.ca/event/uu-principles-reflection-circle-online-8/
CATEGORIES:Community Events
END:VEVENT
BEGIN:VEVENT
DTSTART;TZID=America/Halifax:20260419T103000
DTEND;TZID=America/Halifax:20260419T113000
DTSTAMP:20260423T011145
CREATED:20260325T141315Z
LAST-MODIFIED:20260325T141315Z
UID:1388-1776594600-1776598200@uuch.ca
SUMMARY:Service: We Have Good News for Earth Day
DESCRIPTION:Not all the news is bad! To honour the Earth and our own beautiful province let us focus on good news. By the Climate Crisis Team
URL:https://uuch.ca/event/service-we-have-good-news-for-earth-day/
CATEGORIES:Sunday Services
END:VEVENT
BEGIN:VEVENT
DTSTART;TZID=America/Halifax:20260424T190000
DTEND;TZID=America/Halifax:20260424T220000
DTSTAMP:20260423T011145
CREATED:20260326T160213Z
LAST-MODIFIED:20260410T151404Z
UID:1404-1777057200-1777068000@uuch.ca
SUMMARY:Youth Group **new date**
DESCRIPTION:Youth group is moving to April 24th\, with several youth performing in the coffee house at UUCH. \nThis group meets monthly on the 3rd Friday (except this month!). Email for details and the location: minister@uuch.ca \nWe provide a space where youth can build meaningful relationships and grow into themselves in a community that nurtures good values.
URL:https://uuch.ca/event/youth-group-4/
CATEGORIES:Community Events
END:VEVENT
BEGIN:VEVENT
DTSTART;TZID=America/Halifax:20260424T190000
DTEND;TZID=America/Halifax:20260424T220000
DTSTAMP:20260423T011145
CREATED:20260326T160424Z
LAST-MODIFIED:20260326T160424Z
UID:1406-1777057200-1777068000@uuch.ca
SUMMARY:Coffee House
DESCRIPTION:Email Molly at molly.hurd@gmail.com to sign up your musical act. \nAll welcome! Entry by donation. Alcoholic and non-alcoholic drinks available for purchase.
URL:https://uuch.ca/event/coffee-house/
CATEGORIES:Community Events
END:VEVENT
BEGIN:VEVENT
DTSTART;TZID=America/Halifax:20260425T100000
DTEND;TZID=America/Halifax:20260425T113000
DTSTAMP:20260423T011145
CREATED:20260422T132047Z
LAST-MODIFIED:20260422T132047Z
UID:1424-1777111200-1777116600@uuch.ca
SUMMARY:Saturday Brunch
DESCRIPTION:The UUCH brunch programme runs from September through June. We offer a free brunch every Saturday from 10-11:30 am at the UUCH at 5500 Inglis Street. Our usual clients run from school age to 80+. Everyone is welcome and the area is accessible. There is a gated playground and deck for nice days. Volunteers and donations welcome.
URL:https://uuch.ca/event/saturday-brunch-25/
CATEGORIES:Community Events
END:VEVENT
BEGIN:VEVENT
DTSTART;TZID=America/Halifax:20260426T103000
DTEND;TZID=America/Halifax:20260426T113000
DTSTAMP:20260423T011145
CREATED:20260325T150012Z
LAST-MODIFIED:20260325T150012Z
UID:1396-1777199400-1777203000@uuch.ca
SUMMARY:Hope: An Intergenerational Service
DESCRIPTION:In this intergenerational service\, we will explore hope not as a feeling we wait for\, but as something we practice together. Through story\, music\, and shared joy\, we will reflect on the small\, steady ways hope takes root in our lives…often quietly\, and often in community. Our children will help lead us in a simple planting ritual\, reminding us that even the smallest acts of care can grow into something meaningful.
URL:https://uuch.ca/event/hope-an-intergenerational-service/
CATEGORIES:Sunday Services
END:VEVENT
BEGIN:VEVENT
DTSTART;TZID=America/Halifax:20260427T183000
DTEND;TZID=America/Halifax:20260427T200000
DTSTAMP:20260423T011145
CREATED:20260422T142814Z
LAST-MODIFIED:20260422T142814Z
UID:1436-1777314600-1777320000@uuch.ca
SUMMARY:Rental
DESCRIPTION:
URL:https://uuch.ca/event/rental-29/
CATEGORIES:Rentals
END:VEVENT
BEGIN:VEVENT
DTSTART;TZID=America/Halifax:20260502T100000
DTEND;TZID=America/Halifax:20260502T113000
DTSTAMP:20260423T011145
CREATED:20260422T132117Z
LAST-MODIFIED:20260422T132117Z
UID:1426-1777716000-1777721400@uuch.ca
SUMMARY:Saturday Brunch
DESCRIPTION:The UUCH brunch programme runs from September through June. We offer a free brunch every Saturday from 10-11:30 am at the UUCH at 5500 Inglis Street. Our usual clients run from school age to 80+. Everyone is welcome and the area is accessible. There is a gated playground and deck for nice days. Volunteers and donations welcome.
URL:https://uuch.ca/event/saturday-brunch-26/
CATEGORIES:Community Events
END:VEVENT
BEGIN:VEVENT
DTSTART;TZID=America/Halifax:20260502T130000
DTEND;TZID=America/Halifax:20260502T170000
DTSTAMP:20260423T011145
CREATED:20260422T143241Z
LAST-MODIFIED:20260422T143241Z
UID:1446-1777726800-1777741200@uuch.ca
SUMMARY:Rental
DESCRIPTION:
URL:https://uuch.ca/event/rental-34/
CATEGORIES:Rentals
END:VEVENT
BEGIN:VEVENT
DTSTART;TZID=America/Halifax:20260503T103000
DTEND;TZID=America/Halifax:20260503T113000
DTSTAMP:20260423T011145
CREATED:20260422T131254Z
LAST-MODIFIED:20260422T131254Z
UID:1412-1777804200-1777807800@uuch.ca
SUMMARY:Service: Awe & Wonder in the Natural World (sensory walk afterwards)
DESCRIPTION:We begin a 5-week series on living life with awe and wonder. Today we open to the wonders of the natural world\, where many feel a sense of transcendence. After social hour we’ll go on a sensory walk at Point Pleasant.
URL:https://uuch.ca/event/service-awe-wonder-in-the-natural-world-sensory-walk-afterwards/
CATEGORIES:Sunday Services
END:VEVENT
BEGIN:VEVENT
DTSTART;TZID=America/Halifax:20260504T183000
DTEND;TZID=America/Halifax:20260504T200000
DTSTAMP:20260423T011145
CREATED:20260422T142836Z
LAST-MODIFIED:20260422T142836Z
UID:1438-1777919400-1777924800@uuch.ca
SUMMARY:Rental
DESCRIPTION:
URL:https://uuch.ca/event/rental-30/
CATEGORIES:Rentals
END:VEVENT
BEGIN:VEVENT
DTSTART;TZID=America/Halifax:20260509T100000
DTEND;TZID=America/Halifax:20260509T113000
DTSTAMP:20260423T011145
CREATED:20260422T132212Z
LAST-MODIFIED:20260422T132212Z
UID:1428-1778320800-1778326200@uuch.ca
SUMMARY:Saturday Brunch
DESCRIPTION:The UUCH brunch programme runs from September through June. We offer a free brunch every Saturday from 10-11:30 am at the UUCH at 5500 Inglis Street. Our usual clients run from school age to 80+. Everyone is welcome and the area is accessible. There is a gated playground and deck for nice days. Volunteers and donations welcome.
URL:https://uuch.ca/event/saturday-brunch-27/
CATEGORIES:Community Events
END:VEVENT
BEGIN:VEVENT
DTSTART;TZID=America/Halifax:20260510T103000
DTEND;TZID=America/Halifax:20260510T113000
DTSTAMP:20260423T011145
CREATED:20260422T131328Z
LAST-MODIFIED:20260422T131328Z
UID:1414-1778409000-1778412600@uuch.ca
SUMMARY:Service: Awe & Wonder: The Cosmos and Beyond
DESCRIPTION:Our series on awe and wonder continues\, with an opening to the majesty of this universe and the mystery beyond. A cajillion stars in each of a cajillion galaxies…billions of years…vastness beyond understanding\, and mystery beyond that.
URL:https://uuch.ca/event/service-awe-wonder-the-cosmos-and-beyond/
CATEGORIES:Sunday Services
END:VEVENT
BEGIN:VEVENT
DTSTART;TZID=America/Halifax:20260511T183000
DTEND;TZID=America/Halifax:20260511T200000
DTSTAMP:20260423T011145
CREATED:20260422T142919Z
LAST-MODIFIED:20260422T142919Z
UID:1440-1778524200-1778529600@uuch.ca
SUMMARY:Rental
DESCRIPTION:
URL:https://uuch.ca/event/rental-31/
CATEGORIES:Rentals
END:VEVENT
BEGIN:VEVENT
DTSTART;TZID=America/Halifax:20260516T100000
DTEND;TZID=America/Halifax:20260516T113000
DTSTAMP:20260423T011145
CREATED:20260422T132244Z
LAST-MODIFIED:20260422T132244Z
UID:1430-1778925600-1778931000@uuch.ca
SUMMARY:Saturday Brunch
DESCRIPTION:The UUCH brunch programme runs from September through June. We offer a free brunch every Saturday from 10-11:30 am at the UUCH at 5500 Inglis Street. Our usual clients run from school age to 80+. Everyone is welcome and the area is accessible. There is a gated playground and deck for nice days. Volunteers and donations welcome.
URL:https://uuch.ca/event/saturday-brunch-28/
CATEGORIES:Community Events
END:VEVENT
BEGIN:VEVENT
DTSTART;TZID=America/Halifax:20260517T103000
DTEND;TZID=America/Halifax:20260517T113000
DTSTAMP:20260423T011145
CREATED:20260422T131402Z
LAST-MODIFIED:20260422T131402Z
UID:1416-1779013800-1779017400@uuch.ca
SUMMARY:Service: We Face a New Age
DESCRIPTION:Our series on awe and wonder continues as we wonder about the changing times we live in. What might be shifting\, in you\, in us\, in the world? The reflection will be a recording of a national sermon by Rev. Shawn Gauthier (formally Shawn Newton) called Unitarians Face a New Age.
URL:https://uuch.ca/event/service-we-face-a-new-age/
CATEGORIES:Sunday Services
END:VEVENT
BEGIN:VEVENT
DTSTART;TZID=America/Halifax:20260518T183000
DTEND;TZID=America/Halifax:20260518T200000
DTSTAMP:20260423T011145
CREATED:20260422T142943Z
LAST-MODIFIED:20260422T142943Z
UID:1442-1779129000-1779134400@uuch.ca
SUMMARY:Rental
DESCRIPTION:
URL:https://uuch.ca/event/rental-32/
CATEGORIES:Rentals
END:VEVENT
BEGIN:VEVENT
DTSTART;TZID=America/Halifax:20260523T100000
DTEND;TZID=America/Halifax:20260523T113000
DTSTAMP:20260423T011145
CREATED:20260422T132311Z
LAST-MODIFIED:20260422T132311Z
UID:1432-1779530400-1779535800@uuch.ca
SUMMARY:Saturday Brunch
DESCRIPTION:The UUCH brunch programme runs from September through June. We offer a free brunch every Saturday from 10-11:30 am at the UUCH at 5500 Inglis Street. Our usual clients run from school age to 80+. Everyone is welcome and the area is accessible. There is a gated playground and deck for nice days. Volunteers and donations welcome.
URL:https://uuch.ca/event/saturday-brunch-29/
CATEGORIES:Community Events
END:VEVENT
BEGIN:VEVENT
DTSTART;TZID=America/Halifax:20260524T103000
DTEND;TZID=America/Halifax:20260524T113000
DTSTAMP:20260423T011145
CREATED:20260422T131445Z
LAST-MODIFIED:20260422T131445Z
UID:1418-1779618600-1779622200@uuch.ca
SUMMARY:Service: Everything is Possible: Science Fiction Meets Reality
DESCRIPTION:Poverty gone and all diseases cured…Augmented humans playing fiddle so well you’ll weep..The draw to becoming space pirates\, or starminds\, or Ewoks\, or gaia…Our series on wonder continues as we imagine where the evolution of life might lead.
URL:https://uuch.ca/event/service-everything-is-possible-science-fiction-meets-reality/
CATEGORIES:Sunday Services
END:VEVENT
BEGIN:VEVENT
DTSTART;TZID=America/Halifax:20260525T183000
DTEND;TZID=America/Halifax:20260525T200000
DTSTAMP:20260423T011145
CREATED:20260422T143006Z
LAST-MODIFIED:20260422T143006Z
UID:1444-1779733800-1779739200@uuch.ca
SUMMARY:Rental
DESCRIPTION:
URL:https://uuch.ca/event/rental-33/
CATEGORIES:Rentals
END:VEVENT
END:VCALENDAR